BEGIN:VCALENDAR
VERSION:2.0
PRODID:-//Center for Spiritual Living Santa Rosa - ECPv6.15.17.1//NONSGML v1.0//EN
CALSCALE:GREGORIAN
METHOD:PUBLISH
X-WR-CALNAME:Center for Spiritual Living Santa Rosa
X-ORIGINAL-URL:https://cslsr.org
X-WR-CALDESC:Events for Center for Spiritual Living Santa Rosa
REFRESH-INTERVAL;VALUE=DURATION:PT1H
X-Robots-Tag:noindex
X-PUBLISHED-TTL:PT1H
BEGIN:VTIMEZONE
TZID:America/Los_Angeles
BEGIN:DAYLIGHT
TZOFFSETFROM:-0800
TZOFFSETTO:-0700
TZNAME:PDT
DTSTART:20250309T100000
END:DAYLIGHT
BEGIN:STANDARD
TZOFFSETFROM:-0700
TZOFFSETTO:-0800
TZNAME:PST
DTSTART:20251102T090000
END:STANDARD
BEGIN:DAYLIGHT
TZOFFSETFROM:-0800
TZOFFSETTO:-0700
TZNAME:PDT
DTSTART:20260308T100000
END:DAYLIGHT
BEGIN:STANDARD
TZOFFSETFROM:-0700
TZOFFSETTO:-0800
TZNAME:PST
DTSTART:20261101T090000
END:STANDARD
BEGIN:DAYLIGHT
TZOFFSETFROM:-0800
TZOFFSETTO:-0700
TZNAME:PDT
DTSTART:20270314T100000
END:DAYLIGHT
BEGIN:STANDARD
TZOFFSETFROM:-0700
TZOFFSETTO:-0800
TZNAME:PST
DTSTART:20271107T090000
END:STANDARD
END:VTIMEZONE
BEGIN:VEVENT
DTSTART;TZID=America/Los_Angeles:20261118T100000
DTEND;TZID=America/Los_Angeles:20261118T102500
DTSTAMP:20260424T082707
CREATED:20251105T232006Z
LAST-MODIFIED:20260309T213744Z
UID:10005902-1794996000-1794997500@cslsr.org
SUMMARY:Generating Love
DESCRIPTION:Weekdays (Monday – Friday)\nIn this live 25-minute meditation\, we recognize that Divine Love is within each of us. We come together in the experience of sharing and extending that love to expand a consciousness of a world that works for every one.\n\nThe Zoom link is https://tinyurl.com/GeneratingLove \n\nYou can also use a video of this meditation practice on your own at any time you choose. New video coming soon.\n\n\n\n.
URL:https://cslsr.org/event/generating-love-2022-05-04-2/2026-11-18/
LOCATION:Zoom
CATEGORIES:Free Events,Meditation
ATTACH;FMTTYPE=image/jpeg:https://cslsr.org/wp-content/uploads/2020/09/love-scaled-e1600654727381.jpg
END:VEVENT
BEGIN:VEVENT
DTSTART;TZID=America/Los_Angeles:20261118T180000
DTEND;TZID=America/Los_Angeles:20261118T184500
DTSTAMP:20260424T082708
CREATED:20251222T233709Z
LAST-MODIFIED:20251222T234159Z
UID:10008309-1795024800-1795027500@cslsr.org
SUMMARY:Wednesday Evening Meditation: Inviting the Sacred
DESCRIPTION:Join Rev. Siota Belle on Zoom from 6 to 6:45 pm every Wednesday for a deep\, sacred experience. Relax and open to serenity and peace. \nThe Zoom link is https://us02web.zoom.us/j/444760316 .
URL:https://cslsr.org/event/wednesday-evening-meditation-inviting-the-sacred/2026-11-18/
LOCATION:Center for Spiritual Living\, CA
CATEGORIES:Groups,Meditation,Wednesday Meditation: "Inviting the Sacred"
ATTACH;FMTTYPE=image/jpeg:https://cslsr.org/wp-content/uploads/2025/12/buddhism-2214532_1920-1.jpg
GEO:38.43058;-122.745975
END:VEVENT
BEGIN:VEVENT
DTSTART;TZID=America/Los_Angeles:20261119T100000
DTEND;TZID=America/Los_Angeles:20261119T102500
DTSTAMP:20260424T082708
CREATED:20251105T232006Z
LAST-MODIFIED:20260309T213744Z
UID:10005903-1795082400-1795083900@cslsr.org
SUMMARY:Generating Love
DESCRIPTION:Weekdays (Monday – Friday)\nIn this live 25-minute meditation\, we recognize that Divine Love is within each of us. We come together in the experience of sharing and extending that love to expand a consciousness of a world that works for every one.\n\nThe Zoom link is https://tinyurl.com/GeneratingLove \n\nYou can also use a video of this meditation practice on your own at any time you choose. New video coming soon.\n\n\n\n.
URL:https://cslsr.org/event/generating-love-2022-05-04-2/2026-11-19/
LOCATION:Zoom
CATEGORIES:Free Events,Meditation
ATTACH;FMTTYPE=image/jpeg:https://cslsr.org/wp-content/uploads/2020/09/love-scaled-e1600654727381.jpg
END:VEVENT
BEGIN:VEVENT
DTSTART;TZID=America/Los_Angeles:20261120T100000
DTEND;TZID=America/Los_Angeles:20261120T102500
DTSTAMP:20260424T082708
CREATED:20251105T232006Z
LAST-MODIFIED:20260309T213744Z
UID:10005904-1795168800-1795170300@cslsr.org
SUMMARY:Generating Love
DESCRIPTION:Weekdays (Monday – Friday)\nIn this live 25-minute meditation\, we recognize that Divine Love is within each of us. We come together in the experience of sharing and extending that love to expand a consciousness of a world that works for every one.\n\nThe Zoom link is https://tinyurl.com/GeneratingLove \n\nYou can also use a video of this meditation practice on your own at any time you choose. New video coming soon.\n\n\n\n.
URL:https://cslsr.org/event/generating-love-2022-05-04-2/2026-11-20/
LOCATION:Zoom
CATEGORIES:Free Events,Meditation
ATTACH;FMTTYPE=image/jpeg:https://cslsr.org/wp-content/uploads/2020/09/love-scaled-e1600654727381.jpg
END:VEVENT
BEGIN:VEVENT
DTSTART;TZID=America/Los_Angeles:20261123T100000
DTEND;TZID=America/Los_Angeles:20261123T102500
DTSTAMP:20260424T082708
CREATED:20251105T232006Z
LAST-MODIFIED:20260309T213744Z
UID:10005905-1795428000-1795429500@cslsr.org
SUMMARY:Generating Love
DESCRIPTION:Weekdays (Monday – Friday)\nIn this live 25-minute meditation\, we recognize that Divine Love is within each of us. We come together in the experience of sharing and extending that love to expand a consciousness of a world that works for every one.\n\nThe Zoom link is https://tinyurl.com/GeneratingLove \n\nYou can also use a video of this meditation practice on your own at any time you choose. New video coming soon.\n\n\n\n.
URL:https://cslsr.org/event/generating-love-2022-05-04-2/2026-11-23/
LOCATION:Zoom
CATEGORIES:Free Events,Meditation
ATTACH;FMTTYPE=image/jpeg:https://cslsr.org/wp-content/uploads/2020/09/love-scaled-e1600654727381.jpg
END:VEVENT
BEGIN:VEVENT
DTSTART;TZID=America/Los_Angeles:20261123T120000
DTEND;TZID=America/Los_Angeles:20261123T130000
DTSTAMP:20260424T082708
CREATED:20260214T210739Z
LAST-MODIFIED:20260214T210739Z
UID:10008581-1795435200-1795438800@cslsr.org
SUMMARY:Life Visioning Practice
DESCRIPTION:Visioning is the spiritual practice of tuning in to the Self within to receive guidance about our lives. The Life Visioning Practice group meets weekly on Zoom to support one another in visioning. In it\, you will be guided by one of our experienced Practitioners through the visioning process. If you would like to learn more and experience the benefits of visioning in your life\, this group is for you. \nJoin weekly on Mondays from Noon to 1 pm Pacific time on Zoom. Be sure to bring a journal to record your visioning results. \nClick here too join the Zoom. \n 
URL:https://cslsr.org/event/life-visioning-practice-2/2026-11-23/
LOCATION:Center for Spiritual Living\, CA
CATEGORIES:Groups,Life Visioning Practice,Meditation
ATTACH;FMTTYPE=image/jpeg:https://cslsr.org/wp-content/uploads/2025/12/journal-2850091_1920.jpg
GEO:38.43058;-122.745975
END:VEVENT
BEGIN:VEVENT
DTSTART;TZID=America/Los_Angeles:20261124T100000
DTEND;TZID=America/Los_Angeles:20261124T102500
DTSTAMP:20260424T082708
CREATED:20251105T232006Z
LAST-MODIFIED:20260309T213744Z
UID:10005906-1795514400-1795515900@cslsr.org
SUMMARY:Generating Love
DESCRIPTION:Weekdays (Monday – Friday)\nIn this live 25-minute meditation\, we recognize that Divine Love is within each of us. We come together in the experience of sharing and extending that love to expand a consciousness of a world that works for every one.\n\nThe Zoom link is https://tinyurl.com/GeneratingLove \n\nYou can also use a video of this meditation practice on your own at any time you choose. New video coming soon.\n\n\n\n.
URL:https://cslsr.org/event/generating-love-2022-05-04-2/2026-11-24/
LOCATION:Zoom
CATEGORIES:Free Events,Meditation
ATTACH;FMTTYPE=image/jpeg:https://cslsr.org/wp-content/uploads/2020/09/love-scaled-e1600654727381.jpg
END:VEVENT
BEGIN:VEVENT
DTSTART;TZID=America/Los_Angeles:20261125T100000
DTEND;TZID=America/Los_Angeles:20261125T102500
DTSTAMP:20260424T082708
CREATED:20251105T232006Z
LAST-MODIFIED:20260309T213744Z
UID:10005907-1795600800-1795602300@cslsr.org
SUMMARY:Generating Love
DESCRIPTION:Weekdays (Monday – Friday)\nIn this live 25-minute meditation\, we recognize that Divine Love is within each of us. We come together in the experience of sharing and extending that love to expand a consciousness of a world that works for every one.\n\nThe Zoom link is https://tinyurl.com/GeneratingLove \n\nYou can also use a video of this meditation practice on your own at any time you choose. New video coming soon.\n\n\n\n.
URL:https://cslsr.org/event/generating-love-2022-05-04-2/2026-11-25/
LOCATION:Zoom
CATEGORIES:Free Events,Meditation
ATTACH;FMTTYPE=image/jpeg:https://cslsr.org/wp-content/uploads/2020/09/love-scaled-e1600654727381.jpg
END:VEVENT
BEGIN:VEVENT
DTSTART;TZID=America/Los_Angeles:20261125T180000
DTEND;TZID=America/Los_Angeles:20261125T184500
DTSTAMP:20260424T082708
CREATED:20251222T233709Z
LAST-MODIFIED:20251222T234159Z
UID:10008310-1795629600-1795632300@cslsr.org
SUMMARY:Wednesday Evening Meditation: Inviting the Sacred
DESCRIPTION:Join Rev. Siota Belle on Zoom from 6 to 6:45 pm every Wednesday for a deep\, sacred experience. Relax and open to serenity and peace. \nThe Zoom link is https://us02web.zoom.us/j/444760316 .
URL:https://cslsr.org/event/wednesday-evening-meditation-inviting-the-sacred/2026-11-25/
LOCATION:Center for Spiritual Living\, CA
CATEGORIES:Groups,Meditation,Wednesday Meditation: "Inviting the Sacred"
ATTACH;FMTTYPE=image/jpeg:https://cslsr.org/wp-content/uploads/2025/12/buddhism-2214532_1920-1.jpg
GEO:38.43058;-122.745975
END:VEVENT
BEGIN:VEVENT
DTSTART;TZID=America/Los_Angeles:20261126T100000
DTEND;TZID=America/Los_Angeles:20261126T102500
DTSTAMP:20260424T082708
CREATED:20251105T232006Z
LAST-MODIFIED:20260309T213744Z
UID:10005908-1795687200-1795688700@cslsr.org
SUMMARY:Generating Love
DESCRIPTION:Weekdays (Monday – Friday)\nIn this live 25-minute meditation\, we recognize that Divine Love is within each of us. We come together in the experience of sharing and extending that love to expand a consciousness of a world that works for every one.\n\nThe Zoom link is https://tinyurl.com/GeneratingLove \n\nYou can also use a video of this meditation practice on your own at any time you choose. New video coming soon.\n\n\n\n.
URL:https://cslsr.org/event/generating-love-2022-05-04-2/2026-11-26/
LOCATION:Zoom
CATEGORIES:Free Events,Meditation
ATTACH;FMTTYPE=image/jpeg:https://cslsr.org/wp-content/uploads/2020/09/love-scaled-e1600654727381.jpg
END:VEVENT
BEGIN:VEVENT
DTSTART;TZID=America/Los_Angeles:20261127T100000
DTEND;TZID=America/Los_Angeles:20261127T102500
DTSTAMP:20260424T082708
CREATED:20251105T232006Z
LAST-MODIFIED:20260309T213744Z
UID:10005909-1795773600-1795775100@cslsr.org
SUMMARY:Generating Love
DESCRIPTION:Weekdays (Monday – Friday)\nIn this live 25-minute meditation\, we recognize that Divine Love is within each of us. We come together in the experience of sharing and extending that love to expand a consciousness of a world that works for every one.\n\nThe Zoom link is https://tinyurl.com/GeneratingLove \n\nYou can also use a video of this meditation practice on your own at any time you choose. New video coming soon.\n\n\n\n.
URL:https://cslsr.org/event/generating-love-2022-05-04-2/2026-11-27/
LOCATION:Zoom
CATEGORIES:Free Events,Meditation
ATTACH;FMTTYPE=image/jpeg:https://cslsr.org/wp-content/uploads/2020/09/love-scaled-e1600654727381.jpg
END:VEVENT
BEGIN:VEVENT
DTSTART;TZID=America/Los_Angeles:20261130T100000
DTEND;TZID=America/Los_Angeles:20261130T102500
DTSTAMP:20260424T082708
CREATED:20251105T232006Z
LAST-MODIFIED:20260309T213744Z
UID:10005910-1796032800-1796034300@cslsr.org
SUMMARY:Generating Love
DESCRIPTION:Weekdays (Monday – Friday)\nIn this live 25-minute meditation\, we recognize that Divine Love is within each of us. We come together in the experience of sharing and extending that love to expand a consciousness of a world that works for every one.\n\nThe Zoom link is https://tinyurl.com/GeneratingLove \n\nYou can also use a video of this meditation practice on your own at any time you choose. New video coming soon.\n\n\n\n.
URL:https://cslsr.org/event/generating-love-2022-05-04-2/2026-11-30/
LOCATION:Zoom
CATEGORIES:Free Events,Meditation
ATTACH;FMTTYPE=image/jpeg:https://cslsr.org/wp-content/uploads/2020/09/love-scaled-e1600654727381.jpg
END:VEVENT
BEGIN:VEVENT
DTSTART;TZID=America/Los_Angeles:20261130T120000
DTEND;TZID=America/Los_Angeles:20261130T130000
DTSTAMP:20260424T082708
CREATED:20260214T210739Z
LAST-MODIFIED:20260214T210739Z
UID:10008582-1796040000-1796043600@cslsr.org
SUMMARY:Life Visioning Practice
DESCRIPTION:Visioning is the spiritual practice of tuning in to the Self within to receive guidance about our lives. The Life Visioning Practice group meets weekly on Zoom to support one another in visioning. In it\, you will be guided by one of our experienced Practitioners through the visioning process. If you would like to learn more and experience the benefits of visioning in your life\, this group is for you. \nJoin weekly on Mondays from Noon to 1 pm Pacific time on Zoom. Be sure to bring a journal to record your visioning results. \nClick here too join the Zoom. \n 
URL:https://cslsr.org/event/life-visioning-practice-2/2026-11-30/
LOCATION:Center for Spiritual Living\, CA
CATEGORIES:Groups,Life Visioning Practice,Meditation
ATTACH;FMTTYPE=image/jpeg:https://cslsr.org/wp-content/uploads/2025/12/journal-2850091_1920.jpg
GEO:38.43058;-122.745975
END:VEVENT
BEGIN:VEVENT
DTSTART;TZID=America/Los_Angeles:20261130T190000
DTEND;TZID=America/Los_Angeles:20261130T200000
DTSTAMP:20260424T082708
CREATED:20190721T070600Z
LAST-MODIFIED:20231229T200213Z
UID:10005700-1796065200-1796068800@cslsr.org
SUMMARY:Monthly Peace Meditation
DESCRIPTION:Since 1986\, a group of committed people have been meeting on the last calendar day of every month to pray and meditate together with a focus on world peace. All are welcome. \nFor more information\, please contact Vivian Strand\, RScP\, at (707) 953-1917. \nThe Zoom link is https://tinyurl.com/CSLPeaceMed
URL:https://cslsr.org/event/monthly-world-peace-meditation-2020-07-31-2023-10-31/2026-11-30/
LOCATION:Zoom
CATEGORIES:Meditation
ATTACH;FMTTYPE=image/jpeg:https://cslsr.org/wp-content/uploads/2019/07/NASA-world-e1563667508122.jpg
END:VEVENT
BEGIN:VEVENT
DTSTART;TZID=America/Los_Angeles:20261201T100000
DTEND;TZID=America/Los_Angeles:20261201T102500
DTSTAMP:20260424T082708
CREATED:20251105T232006Z
LAST-MODIFIED:20260309T213744Z
UID:10005911-1796119200-1796120700@cslsr.org
SUMMARY:Generating Love
DESCRIPTION:Weekdays (Monday – Friday)\nIn this live 25-minute meditation\, we recognize that Divine Love is within each of us. We come together in the experience of sharing and extending that love to expand a consciousness of a world that works for every one.\n\nThe Zoom link is https://tinyurl.com/GeneratingLove \n\nYou can also use a video of this meditation practice on your own at any time you choose. New video coming soon.\n\n\n\n.
URL:https://cslsr.org/event/generating-love-2022-05-04-2/2026-12-01/
LOCATION:Zoom
CATEGORIES:Free Events,Meditation
ATTACH;FMTTYPE=image/jpeg:https://cslsr.org/wp-content/uploads/2020/09/love-scaled-e1600654727381.jpg
END:VEVENT
BEGIN:VEVENT
DTSTART;TZID=America/Los_Angeles:20261202T100000
DTEND;TZID=America/Los_Angeles:20261202T102500
DTSTAMP:20260424T082708
CREATED:20251105T232006Z
LAST-MODIFIED:20260309T213744Z
UID:10005912-1796205600-1796207100@cslsr.org
SUMMARY:Generating Love
DESCRIPTION:Weekdays (Monday – Friday)\nIn this live 25-minute meditation\, we recognize that Divine Love is within each of us. We come together in the experience of sharing and extending that love to expand a consciousness of a world that works for every one.\n\nThe Zoom link is https://tinyurl.com/GeneratingLove \n\nYou can also use a video of this meditation practice on your own at any time you choose. New video coming soon.\n\n\n\n.
URL:https://cslsr.org/event/generating-love-2022-05-04-2/2026-12-02/
LOCATION:Zoom
CATEGORIES:Free Events,Meditation
ATTACH;FMTTYPE=image/jpeg:https://cslsr.org/wp-content/uploads/2020/09/love-scaled-e1600654727381.jpg
END:VEVENT
BEGIN:VEVENT
DTSTART;TZID=America/Los_Angeles:20261202T180000
DTEND;TZID=America/Los_Angeles:20261202T184500
DTSTAMP:20260424T082708
CREATED:20251222T233709Z
LAST-MODIFIED:20251222T234159Z
UID:10008311-1796234400-1796237100@cslsr.org
SUMMARY:Wednesday Evening Meditation: Inviting the Sacred
DESCRIPTION:Join Rev. Siota Belle on Zoom from 6 to 6:45 pm every Wednesday for a deep\, sacred experience. Relax and open to serenity and peace. \nThe Zoom link is https://us02web.zoom.us/j/444760316 .
URL:https://cslsr.org/event/wednesday-evening-meditation-inviting-the-sacred/2026-12-02/
LOCATION:Center for Spiritual Living\, CA
CATEGORIES:Groups,Meditation,Wednesday Meditation: "Inviting the Sacred"
ATTACH;FMTTYPE=image/jpeg:https://cslsr.org/wp-content/uploads/2025/12/buddhism-2214532_1920-1.jpg
GEO:38.43058;-122.745975
END:VEVENT
BEGIN:VEVENT
DTSTART;TZID=America/Los_Angeles:20261203T100000
DTEND;TZID=America/Los_Angeles:20261203T102500
DTSTAMP:20260424T082708
CREATED:20251105T232006Z
LAST-MODIFIED:20260309T213744Z
UID:10005913-1796292000-1796293500@cslsr.org
SUMMARY:Generating Love
DESCRIPTION:Weekdays (Monday – Friday)\nIn this live 25-minute meditation\, we recognize that Divine Love is within each of us. We come together in the experience of sharing and extending that love to expand a consciousness of a world that works for every one.\n\nThe Zoom link is https://tinyurl.com/GeneratingLove \n\nYou can also use a video of this meditation practice on your own at any time you choose. New video coming soon.\n\n\n\n.
URL:https://cslsr.org/event/generating-love-2022-05-04-2/2026-12-03/
LOCATION:Zoom
CATEGORIES:Free Events,Meditation
ATTACH;FMTTYPE=image/jpeg:https://cslsr.org/wp-content/uploads/2020/09/love-scaled-e1600654727381.jpg
END:VEVENT
BEGIN:VEVENT
DTSTART;TZID=America/Los_Angeles:20261204T100000
DTEND;TZID=America/Los_Angeles:20261204T102500
DTSTAMP:20260424T082708
CREATED:20251105T232006Z
LAST-MODIFIED:20260309T213744Z
UID:10005914-1796378400-1796379900@cslsr.org
SUMMARY:Generating Love
DESCRIPTION:Weekdays (Monday – Friday)\nIn this live 25-minute meditation\, we recognize that Divine Love is within each of us. We come together in the experience of sharing and extending that love to expand a consciousness of a world that works for every one.\n\nThe Zoom link is https://tinyurl.com/GeneratingLove \n\nYou can also use a video of this meditation practice on your own at any time you choose. New video coming soon.\n\n\n\n.
URL:https://cslsr.org/event/generating-love-2022-05-04-2/2026-12-04/
LOCATION:Zoom
CATEGORIES:Free Events,Meditation
ATTACH;FMTTYPE=image/jpeg:https://cslsr.org/wp-content/uploads/2020/09/love-scaled-e1600654727381.jpg
END:VEVENT
BEGIN:VEVENT
DTSTART;TZID=America/Los_Angeles:20261207T100000
DTEND;TZID=America/Los_Angeles:20261207T102500
DTSTAMP:20260424T082708
CREATED:20251105T232006Z
LAST-MODIFIED:20260309T213744Z
UID:10005915-1796637600-1796639100@cslsr.org
SUMMARY:Generating Love
DESCRIPTION:Weekdays (Monday – Friday)\nIn this live 25-minute meditation\, we recognize that Divine Love is within each of us. We come together in the experience of sharing and extending that love to expand a consciousness of a world that works for every one.\n\nThe Zoom link is https://tinyurl.com/GeneratingLove \n\nYou can also use a video of this meditation practice on your own at any time you choose. New video coming soon.\n\n\n\n.
URL:https://cslsr.org/event/generating-love-2022-05-04-2/2026-12-07/
LOCATION:Zoom
CATEGORIES:Free Events,Meditation
ATTACH;FMTTYPE=image/jpeg:https://cslsr.org/wp-content/uploads/2020/09/love-scaled-e1600654727381.jpg
END:VEVENT
BEGIN:VEVENT
DTSTART;TZID=America/Los_Angeles:20261207T120000
DTEND;TZID=America/Los_Angeles:20261207T130000
DTSTAMP:20260424T082708
CREATED:20260214T210739Z
LAST-MODIFIED:20260214T210739Z
UID:10008583-1796644800-1796648400@cslsr.org
SUMMARY:Life Visioning Practice
DESCRIPTION:Visioning is the spiritual practice of tuning in to the Self within to receive guidance about our lives. The Life Visioning Practice group meets weekly on Zoom to support one another in visioning. In it\, you will be guided by one of our experienced Practitioners through the visioning process. If you would like to learn more and experience the benefits of visioning in your life\, this group is for you. \nJoin weekly on Mondays from Noon to 1 pm Pacific time on Zoom. Be sure to bring a journal to record your visioning results. \nClick here too join the Zoom. \n 
URL:https://cslsr.org/event/life-visioning-practice-2/2026-12-07/
LOCATION:Center for Spiritual Living\, CA
CATEGORIES:Groups,Life Visioning Practice,Meditation
ATTACH;FMTTYPE=image/jpeg:https://cslsr.org/wp-content/uploads/2025/12/journal-2850091_1920.jpg
GEO:38.43058;-122.745975
END:VEVENT
BEGIN:VEVENT
DTSTART;TZID=America/Los_Angeles:20261208T100000
DTEND;TZID=America/Los_Angeles:20261208T102500
DTSTAMP:20260424T082708
CREATED:20251105T232006Z
LAST-MODIFIED:20260309T213744Z
UID:10005916-1796724000-1796725500@cslsr.org
SUMMARY:Generating Love
DESCRIPTION:Weekdays (Monday – Friday)\nIn this live 25-minute meditation\, we recognize that Divine Love is within each of us. We come together in the experience of sharing and extending that love to expand a consciousness of a world that works for every one.\n\nThe Zoom link is https://tinyurl.com/GeneratingLove \n\nYou can also use a video of this meditation practice on your own at any time you choose. New video coming soon.\n\n\n\n.
URL:https://cslsr.org/event/generating-love-2022-05-04-2/2026-12-08/
LOCATION:Zoom
CATEGORIES:Free Events,Meditation
ATTACH;FMTTYPE=image/jpeg:https://cslsr.org/wp-content/uploads/2020/09/love-scaled-e1600654727381.jpg
END:VEVENT
BEGIN:VEVENT
DTSTART;TZID=America/Los_Angeles:20261209T100000
DTEND;TZID=America/Los_Angeles:20261209T102500
DTSTAMP:20260424T082708
CREATED:20251105T232006Z
LAST-MODIFIED:20260309T213744Z
UID:10005917-1796810400-1796811900@cslsr.org
SUMMARY:Generating Love
DESCRIPTION:Weekdays (Monday – Friday)\nIn this live 25-minute meditation\, we recognize that Divine Love is within each of us. We come together in the experience of sharing and extending that love to expand a consciousness of a world that works for every one.\n\nThe Zoom link is https://tinyurl.com/GeneratingLove \n\nYou can also use a video of this meditation practice on your own at any time you choose. New video coming soon.\n\n\n\n.
URL:https://cslsr.org/event/generating-love-2022-05-04-2/2026-12-09/
LOCATION:Zoom
CATEGORIES:Free Events,Meditation
ATTACH;FMTTYPE=image/jpeg:https://cslsr.org/wp-content/uploads/2020/09/love-scaled-e1600654727381.jpg
END:VEVENT
BEGIN:VEVENT
DTSTART;TZID=America/Los_Angeles:20261209T180000
DTEND;TZID=America/Los_Angeles:20261209T184500
DTSTAMP:20260424T082708
CREATED:20251222T233709Z
LAST-MODIFIED:20251222T234159Z
UID:10008312-1796839200-1796841900@cslsr.org
SUMMARY:Wednesday Evening Meditation: Inviting the Sacred
DESCRIPTION:Join Rev. Siota Belle on Zoom from 6 to 6:45 pm every Wednesday for a deep\, sacred experience. Relax and open to serenity and peace. \nThe Zoom link is https://us02web.zoom.us/j/444760316 .
URL:https://cslsr.org/event/wednesday-evening-meditation-inviting-the-sacred/2026-12-09/
LOCATION:Center for Spiritual Living\, CA
CATEGORIES:Groups,Meditation,Wednesday Meditation: "Inviting the Sacred"
ATTACH;FMTTYPE=image/jpeg:https://cslsr.org/wp-content/uploads/2025/12/buddhism-2214532_1920-1.jpg
GEO:38.43058;-122.745975
END:VEVENT
BEGIN:VEVENT
DTSTART;TZID=America/Los_Angeles:20261210T100000
DTEND;TZID=America/Los_Angeles:20261210T102500
DTSTAMP:20260424T082708
CREATED:20251105T232006Z
LAST-MODIFIED:20260309T213744Z
UID:10005918-1796896800-1796898300@cslsr.org
SUMMARY:Generating Love
DESCRIPTION:Weekdays (Monday – Friday)\nIn this live 25-minute meditation\, we recognize that Divine Love is within each of us. We come together in the experience of sharing and extending that love to expand a consciousness of a world that works for every one.\n\nThe Zoom link is https://tinyurl.com/GeneratingLove \n\nYou can also use a video of this meditation practice on your own at any time you choose. New video coming soon.\n\n\n\n.
URL:https://cslsr.org/event/generating-love-2022-05-04-2/2026-12-10/
LOCATION:Zoom
CATEGORIES:Free Events,Meditation
ATTACH;FMTTYPE=image/jpeg:https://cslsr.org/wp-content/uploads/2020/09/love-scaled-e1600654727381.jpg
END:VEVENT
BEGIN:VEVENT
DTSTART;TZID=America/Los_Angeles:20261211T100000
DTEND;TZID=America/Los_Angeles:20261211T102500
DTSTAMP:20260424T082708
CREATED:20251105T232006Z
LAST-MODIFIED:20260309T213744Z
UID:10005919-1796983200-1796984700@cslsr.org
SUMMARY:Generating Love
DESCRIPTION:Weekdays (Monday – Friday)\nIn this live 25-minute meditation\, we recognize that Divine Love is within each of us. We come together in the experience of sharing and extending that love to expand a consciousness of a world that works for every one.\n\nThe Zoom link is https://tinyurl.com/GeneratingLove \n\nYou can also use a video of this meditation practice on your own at any time you choose. New video coming soon.\n\n\n\n.
URL:https://cslsr.org/event/generating-love-2022-05-04-2/2026-12-11/
LOCATION:Zoom
CATEGORIES:Free Events,Meditation
ATTACH;FMTTYPE=image/jpeg:https://cslsr.org/wp-content/uploads/2020/09/love-scaled-e1600654727381.jpg
END:VEVENT
BEGIN:VEVENT
DTSTART;TZID=America/Los_Angeles:20261214T100000
DTEND;TZID=America/Los_Angeles:20261214T102500
DTSTAMP:20260424T082708
CREATED:20251105T232006Z
LAST-MODIFIED:20260309T213744Z
UID:10005920-1797242400-1797243900@cslsr.org
SUMMARY:Generating Love
DESCRIPTION:Weekdays (Monday – Friday)\nIn this live 25-minute meditation\, we recognize that Divine Love is within each of us. We come together in the experience of sharing and extending that love to expand a consciousness of a world that works for every one.\n\nThe Zoom link is https://tinyurl.com/GeneratingLove \n\nYou can also use a video of this meditation practice on your own at any time you choose. New video coming soon.\n\n\n\n.
URL:https://cslsr.org/event/generating-love-2022-05-04-2/2026-12-14/
LOCATION:Zoom
CATEGORIES:Free Events,Meditation
ATTACH;FMTTYPE=image/jpeg:https://cslsr.org/wp-content/uploads/2020/09/love-scaled-e1600654727381.jpg
END:VEVENT
BEGIN:VEVENT
DTSTART;TZID=America/Los_Angeles:20261214T120000
DTEND;TZID=America/Los_Angeles:20261214T130000
DTSTAMP:20260424T082708
CREATED:20260214T210739Z
LAST-MODIFIED:20260214T210739Z
UID:10008584-1797249600-1797253200@cslsr.org
SUMMARY:Life Visioning Practice
DESCRIPTION:Visioning is the spiritual practice of tuning in to the Self within to receive guidance about our lives. The Life Visioning Practice group meets weekly on Zoom to support one another in visioning. In it\, you will be guided by one of our experienced Practitioners through the visioning process. If you would like to learn more and experience the benefits of visioning in your life\, this group is for you. \nJoin weekly on Mondays from Noon to 1 pm Pacific time on Zoom. Be sure to bring a journal to record your visioning results. \nClick here too join the Zoom. \n 
URL:https://cslsr.org/event/life-visioning-practice-2/2026-12-14/
LOCATION:Center for Spiritual Living\, CA
CATEGORIES:Groups,Life Visioning Practice,Meditation
ATTACH;FMTTYPE=image/jpeg:https://cslsr.org/wp-content/uploads/2025/12/journal-2850091_1920.jpg
GEO:38.43058;-122.745975
END:VEVENT
BEGIN:VEVENT
DTSTART;TZID=America/Los_Angeles:20261215T100000
DTEND;TZID=America/Los_Angeles:20261215T102500
DTSTAMP:20260424T082708
CREATED:20251105T232006Z
LAST-MODIFIED:20260309T213744Z
UID:10005921-1797328800-1797330300@cslsr.org
SUMMARY:Generating Love
DESCRIPTION:Weekdays (Monday – Friday)\nIn this live 25-minute meditation\, we recognize that Divine Love is within each of us. We come together in the experience of sharing and extending that love to expand a consciousness of a world that works for every one.\n\nThe Zoom link is https://tinyurl.com/GeneratingLove \n\nYou can also use a video of this meditation practice on your own at any time you choose. New video coming soon.\n\n\n\n.
URL:https://cslsr.org/event/generating-love-2022-05-04-2/2026-12-15/
LOCATION:Zoom
CATEGORIES:Free Events,Meditation
ATTACH;FMTTYPE=image/jpeg:https://cslsr.org/wp-content/uploads/2020/09/love-scaled-e1600654727381.jpg
END:VEVENT
BEGIN:VEVENT
DTSTART;TZID=America/Los_Angeles:20261216T100000
DTEND;TZID=America/Los_Angeles:20261216T102500
DTSTAMP:20260424T082708
CREATED:20251105T232006Z
LAST-MODIFIED:20260309T213744Z
UID:10005922-1797415200-1797416700@cslsr.org
SUMMARY:Generating Love
DESCRIPTION:Weekdays (Monday – Friday)\nIn this live 25-minute meditation\, we recognize that Divine Love is within each of us. We come together in the experience of sharing and extending that love to expand a consciousness of a world that works for every one.\n\nThe Zoom link is https://tinyurl.com/GeneratingLove \n\nYou can also use a video of this meditation practice on your own at any time you choose. New video coming soon.\n\n\n\n.
URL:https://cslsr.org/event/generating-love-2022-05-04-2/2026-12-16/
LOCATION:Zoom
CATEGORIES:Free Events,Meditation
ATTACH;FMTTYPE=image/jpeg:https://cslsr.org/wp-content/uploads/2020/09/love-scaled-e1600654727381.jpg
END:VEVENT
END:VCALENDAR