BEGIN:VCALENDAR
VERSION:2.0
PRODID:-//Center for Spiritual Living Santa Rosa - ECPv6.15.17.1//NONSGML v1.0//EN
CALSCALE:GREGORIAN
METHOD:PUBLISH
X-WR-CALNAME:Center for Spiritual Living Santa Rosa
X-ORIGINAL-URL:https://cslsr.org
X-WR-CALDESC:Events for Center for Spiritual Living Santa Rosa
REFRESH-INTERVAL;VALUE=DURATION:PT1H
X-Robots-Tag:noindex
X-PUBLISHED-TTL:PT1H
BEGIN:VTIMEZONE
TZID:America/Los_Angeles
BEGIN:DAYLIGHT
TZOFFSETFROM:-0800
TZOFFSETTO:-0700
TZNAME:PDT
DTSTART:20300310T100000
END:DAYLIGHT
BEGIN:STANDARD
TZOFFSETFROM:-0700
TZOFFSETTO:-0800
TZNAME:PST
DTSTART:20301103T090000
END:STANDARD
BEGIN:DAYLIGHT
TZOFFSETFROM:-0800
TZOFFSETTO:-0700
TZNAME:PDT
DTSTART:20310309T100000
END:DAYLIGHT
BEGIN:STANDARD
TZOFFSETFROM:-0700
TZOFFSETTO:-0800
TZNAME:PST
DTSTART:20311102T090000
END:STANDARD
BEGIN:DAYLIGHT
TZOFFSETFROM:-0800
TZOFFSETTO:-0700
TZNAME:PDT
DTSTART:20320314T100000
END:DAYLIGHT
BEGIN:STANDARD
TZOFFSETFROM:-0700
TZOFFSETTO:-0800
TZNAME:PST
DTSTART:20321107T090000
END:STANDARD
END:VTIMEZONE
BEGIN:VEVENT
DTSTART;TZID=America/Los_Angeles:20310311T120000
DTEND;TZID=America/Los_Angeles:20310311T130000
DTSTAMP:20260425T163844
CREATED:20260425T181023Z
LAST-MODIFIED:20260425T182042Z
UID:10009131-1930996800-1931000400@cslsr.org
SUMMARY:Seniors in Spirit
DESCRIPTION:We meet on the second Tuesday of the month at 12:30 pm at Round Table Pizza on Occidental Road near the Center for lunch\, friendship\, prayer support\, and to plan outings together as a group. \nTo reserve your place at lunch\, please contact Connie McMurray at (707) 799-9366.
URL:https://cslsr.org/event/seniors-in-spirit/2031-03-11/
CATEGORIES:Seniors in Spirit
ATTACH;FMTTYPE=image/jpeg:https://cslsr.org/wp-content/uploads/2021/11/the-blowup-DU6RnSmZi2c-unsplash-scaled-e1639512721512.jpg
END:VEVENT
END:VCALENDAR