BEGIN:VCALENDAR
VERSION:2.0
PRODID:-//Center for Spiritual Living Santa Rosa - ECPv6.15.17.1//NONSGML v1.0//EN
CALSCALE:GREGORIAN
METHOD:PUBLISH
X-WR-CALNAME:Center for Spiritual Living Santa Rosa
X-ORIGINAL-URL:https://cslsr.org
X-WR-CALDESC:Events for Center for Spiritual Living Santa Rosa
REFRESH-INTERVAL;VALUE=DURATION:PT1H
X-Robots-Tag:noindex
X-PUBLISHED-TTL:PT1H
BEGIN:VTIMEZONE
TZID:America/Los_Angeles
BEGIN:DAYLIGHT
TZOFFSETFROM:-0800
TZOFFSETTO:-0700
TZNAME:PDT
DTSTART:20250309T100000
END:DAYLIGHT
BEGIN:STANDARD
TZOFFSETFROM:-0700
TZOFFSETTO:-0800
TZNAME:PST
DTSTART:20251102T090000
END:STANDARD
BEGIN:DAYLIGHT
TZOFFSETFROM:-0800
TZOFFSETTO:-0700
TZNAME:PDT
DTSTART:20260308T100000
END:DAYLIGHT
BEGIN:STANDARD
TZOFFSETFROM:-0700
TZOFFSETTO:-0800
TZNAME:PST
DTSTART:20261101T090000
END:STANDARD
BEGIN:DAYLIGHT
TZOFFSETFROM:-0800
TZOFFSETTO:-0700
TZNAME:PDT
DTSTART:20270314T100000
END:DAYLIGHT
BEGIN:STANDARD
TZOFFSETFROM:-0700
TZOFFSETTO:-0800
TZNAME:PST
DTSTART:20271107T090000
END:STANDARD
END:VTIMEZONE
BEGIN:VEVENT
DTSTART;TZID=America/Los_Angeles:20260402T100000
DTEND;TZID=America/Los_Angeles:20260402T102500
DTSTAMP:20260420T003700
CREATED:20251105T232006Z
LAST-MODIFIED:20260309T213744Z
UID:10002283-1775124000-1775125500@cslsr.org
SUMMARY:Generating Love
DESCRIPTION:Weekdays (Monday – Friday)\nIn this live 25-minute meditation\, we recognize that Divine Love is within each of us. We come together in the experience of sharing and extending that love to expand a consciousness of a world that works for every one.\n\nThe Zoom link is https://tinyurl.com/GeneratingLove \n\nYou can also use a video of this meditation practice on your own at any time you choose. New video coming soon.\n\n\n\n.
URL:https://cslsr.org/event/generating-love-2022-05-04-2/2026-04-02/
LOCATION:Zoom
CATEGORIES:Free Events,Meditation
ATTACH;FMTTYPE=image/jpeg:https://cslsr.org/wp-content/uploads/2020/09/love-scaled-e1600654727381.jpg
END:VEVENT
BEGIN:VEVENT
DTSTART;TZID=America/Los_Angeles:20260402T180000
DTEND;TZID=America/Los_Angeles:20260402T193000
DTSTAMP:20260420T003700
CREATED:20250715T231346Z
LAST-MODIFIED:20250715T231346Z
UID:10006994-1775152800-1775158200@cslsr.org
SUMMARY:Joyful Frequency Song Circle
DESCRIPTION:Description: \nPresented by singer-songwriter Astra Fox\, the Joyful Frequency Song Circle is a welcoming monthly gathering where participants come together to sing simple\, uplifting songs that inspire connection\, joy\, and personal transformation. Open to all ages and experience levels\, this circle offers a fun and empowering space to explore the spiritual practice of singing affirmative songs. These songs serve as musical affirmations\, anchoring positive truths into your mind and body while building community through music. \nDetails: \n\nWhen: First Thursday of every month (except July)\, from 6 to 7:30 pm\nWhere: Social Hall at The Center for Spiritual Living\, Santa Rosa\nCost: Supported by love donations—contribute what feels right to support the circle and the center.\nWho Can Join: Open to everyone—no musical experience required\, and family-friendly!\n\n. \nJoin us to raise your vibration\, connect with your community\, and transform your thinking—one joyful note at a time.
URL:https://cslsr.org/event/joyful-frequency-song-circle/2026-04-02/
LOCATION:Center for Spiritual Living\, 2075 Occidental Road\, Santa Rosa\, CA\, 95410\, United States
CATEGORIES:Free Events
ATTACH;FMTTYPE=image/jpeg:https://cslsr.org/wp-content/uploads/2025/01/song-circle-musical-notes.jpg
GEO:38.43058;-122.745975
X-APPLE-STRUCTURED-LOCATION;VALUE=URI;X-ADDRESS=Center for Spiritual Living 2075 Occidental Road Santa Rosa CA 95410 United States;X-APPLE-RADIUS=500;X-TITLE=2075 Occidental Road:geo:-122.745975,38.43058
END:VEVENT
BEGIN:VEVENT
DTSTART;TZID=America/Los_Angeles:20260403T100000
DTEND;TZID=America/Los_Angeles:20260403T102500
DTSTAMP:20260420T003700
CREATED:20251105T232006Z
LAST-MODIFIED:20260309T213744Z
UID:10002284-1775210400-1775211900@cslsr.org
SUMMARY:Generating Love
DESCRIPTION:Weekdays (Monday – Friday)\nIn this live 25-minute meditation\, we recognize that Divine Love is within each of us. We come together in the experience of sharing and extending that love to expand a consciousness of a world that works for every one.\n\nThe Zoom link is https://tinyurl.com/GeneratingLove \n\nYou can also use a video of this meditation practice on your own at any time you choose. New video coming soon.\n\n\n\n.
URL:https://cslsr.org/event/generating-love-2022-05-04-2/2026-04-03/
LOCATION:Zoom
CATEGORIES:Free Events,Meditation
ATTACH;FMTTYPE=image/jpeg:https://cslsr.org/wp-content/uploads/2020/09/love-scaled-e1600654727381.jpg
END:VEVENT
BEGIN:VEVENT
DTSTART;TZID=America/Los_Angeles:20260406T100000
DTEND;TZID=America/Los_Angeles:20260406T102500
DTSTAMP:20260420T003700
CREATED:20251105T232006Z
LAST-MODIFIED:20260309T213744Z
UID:10002285-1775469600-1775471100@cslsr.org
SUMMARY:Generating Love
DESCRIPTION:Weekdays (Monday – Friday)\nIn this live 25-minute meditation\, we recognize that Divine Love is within each of us. We come together in the experience of sharing and extending that love to expand a consciousness of a world that works for every one.\n\nThe Zoom link is https://tinyurl.com/GeneratingLove \n\nYou can also use a video of this meditation practice on your own at any time you choose. New video coming soon.\n\n\n\n.
URL:https://cslsr.org/event/generating-love-2022-05-04-2/2026-04-06/
LOCATION:Zoom
CATEGORIES:Free Events,Meditation
ATTACH;FMTTYPE=image/jpeg:https://cslsr.org/wp-content/uploads/2020/09/love-scaled-e1600654727381.jpg
END:VEVENT
BEGIN:VEVENT
DTSTART;TZID=America/Los_Angeles:20260407T100000
DTEND;TZID=America/Los_Angeles:20260407T102500
DTSTAMP:20260420T003700
CREATED:20251105T232006Z
LAST-MODIFIED:20260309T213744Z
UID:10002286-1775556000-1775557500@cslsr.org
SUMMARY:Generating Love
DESCRIPTION:Weekdays (Monday – Friday)\nIn this live 25-minute meditation\, we recognize that Divine Love is within each of us. We come together in the experience of sharing and extending that love to expand a consciousness of a world that works for every one.\n\nThe Zoom link is https://tinyurl.com/GeneratingLove \n\nYou can also use a video of this meditation practice on your own at any time you choose. New video coming soon.\n\n\n\n.
URL:https://cslsr.org/event/generating-love-2022-05-04-2/2026-04-07/
LOCATION:Zoom
CATEGORIES:Free Events,Meditation
ATTACH;FMTTYPE=image/jpeg:https://cslsr.org/wp-content/uploads/2020/09/love-scaled-e1600654727381.jpg
END:VEVENT
BEGIN:VEVENT
DTSTART;TZID=America/Los_Angeles:20260408T100000
DTEND;TZID=America/Los_Angeles:20260408T102500
DTSTAMP:20260420T003700
CREATED:20251105T232006Z
LAST-MODIFIED:20260309T213744Z
UID:10002287-1775642400-1775643900@cslsr.org
SUMMARY:Generating Love
DESCRIPTION:Weekdays (Monday – Friday)\nIn this live 25-minute meditation\, we recognize that Divine Love is within each of us. We come together in the experience of sharing and extending that love to expand a consciousness of a world that works for every one.\n\nThe Zoom link is https://tinyurl.com/GeneratingLove \n\nYou can also use a video of this meditation practice on your own at any time you choose. New video coming soon.\n\n\n\n.
URL:https://cslsr.org/event/generating-love-2022-05-04-2/2026-04-08/
LOCATION:Zoom
CATEGORIES:Free Events,Meditation
ATTACH;FMTTYPE=image/jpeg:https://cslsr.org/wp-content/uploads/2020/09/love-scaled-e1600654727381.jpg
END:VEVENT
BEGIN:VEVENT
DTSTART;TZID=America/Los_Angeles:20260409T100000
DTEND;TZID=America/Los_Angeles:20260409T102500
DTSTAMP:20260420T003700
CREATED:20251105T232006Z
LAST-MODIFIED:20260309T213744Z
UID:10002288-1775728800-1775730300@cslsr.org
SUMMARY:Generating Love
DESCRIPTION:Weekdays (Monday – Friday)\nIn this live 25-minute meditation\, we recognize that Divine Love is within each of us. We come together in the experience of sharing and extending that love to expand a consciousness of a world that works for every one.\n\nThe Zoom link is https://tinyurl.com/GeneratingLove \n\nYou can also use a video of this meditation practice on your own at any time you choose. New video coming soon.\n\n\n\n.
URL:https://cslsr.org/event/generating-love-2022-05-04-2/2026-04-09/
LOCATION:Zoom
CATEGORIES:Free Events,Meditation
ATTACH;FMTTYPE=image/jpeg:https://cslsr.org/wp-content/uploads/2020/09/love-scaled-e1600654727381.jpg
END:VEVENT
BEGIN:VEVENT
DTSTART;TZID=America/Los_Angeles:20260410T100000
DTEND;TZID=America/Los_Angeles:20260410T102500
DTSTAMP:20260420T003700
CREATED:20251105T232006Z
LAST-MODIFIED:20260309T213744Z
UID:10002289-1775815200-1775816700@cslsr.org
SUMMARY:Generating Love
DESCRIPTION:Weekdays (Monday – Friday)\nIn this live 25-minute meditation\, we recognize that Divine Love is within each of us. We come together in the experience of sharing and extending that love to expand a consciousness of a world that works for every one.\n\nThe Zoom link is https://tinyurl.com/GeneratingLove \n\nYou can also use a video of this meditation practice on your own at any time you choose. New video coming soon.\n\n\n\n.
URL:https://cslsr.org/event/generating-love-2022-05-04-2/2026-04-10/
LOCATION:Zoom
CATEGORIES:Free Events,Meditation
ATTACH;FMTTYPE=image/jpeg:https://cslsr.org/wp-content/uploads/2020/09/love-scaled-e1600654727381.jpg
END:VEVENT
BEGIN:VEVENT
DTSTART;TZID=America/Los_Angeles:20260413T100000
DTEND;TZID=America/Los_Angeles:20260413T102500
DTSTAMP:20260420T003700
CREATED:20251105T232006Z
LAST-MODIFIED:20260309T213744Z
UID:10002290-1776074400-1776075900@cslsr.org
SUMMARY:Generating Love
DESCRIPTION:Weekdays (Monday – Friday)\nIn this live 25-minute meditation\, we recognize that Divine Love is within each of us. We come together in the experience of sharing and extending that love to expand a consciousness of a world that works for every one.\n\nThe Zoom link is https://tinyurl.com/GeneratingLove \n\nYou can also use a video of this meditation practice on your own at any time you choose. New video coming soon.\n\n\n\n.
URL:https://cslsr.org/event/generating-love-2022-05-04-2/2026-04-13/
LOCATION:Zoom
CATEGORIES:Free Events,Meditation
ATTACH;FMTTYPE=image/jpeg:https://cslsr.org/wp-content/uploads/2020/09/love-scaled-e1600654727381.jpg
END:VEVENT
BEGIN:VEVENT
DTSTART;TZID=America/Los_Angeles:20260414T100000
DTEND;TZID=America/Los_Angeles:20260414T102500
DTSTAMP:20260420T003700
CREATED:20251105T232006Z
LAST-MODIFIED:20260309T213744Z
UID:10002291-1776160800-1776162300@cslsr.org
SUMMARY:Generating Love
DESCRIPTION:Weekdays (Monday – Friday)\nIn this live 25-minute meditation\, we recognize that Divine Love is within each of us. We come together in the experience of sharing and extending that love to expand a consciousness of a world that works for every one.\n\nThe Zoom link is https://tinyurl.com/GeneratingLove \n\nYou can also use a video of this meditation practice on your own at any time you choose. New video coming soon.\n\n\n\n.
URL:https://cslsr.org/event/generating-love-2022-05-04-2/2026-04-14/
LOCATION:Zoom
CATEGORIES:Free Events,Meditation
ATTACH;FMTTYPE=image/jpeg:https://cslsr.org/wp-content/uploads/2020/09/love-scaled-e1600654727381.jpg
END:VEVENT
BEGIN:VEVENT
DTSTART;TZID=America/Los_Angeles:20260415T100000
DTEND;TZID=America/Los_Angeles:20260415T102500
DTSTAMP:20260420T003700
CREATED:20251105T232006Z
LAST-MODIFIED:20260309T213744Z
UID:10002292-1776247200-1776248700@cslsr.org
SUMMARY:Generating Love
DESCRIPTION:Weekdays (Monday – Friday)\nIn this live 25-minute meditation\, we recognize that Divine Love is within each of us. We come together in the experience of sharing and extending that love to expand a consciousness of a world that works for every one.\n\nThe Zoom link is https://tinyurl.com/GeneratingLove \n\nYou can also use a video of this meditation practice on your own at any time you choose. New video coming soon.\n\n\n\n.
URL:https://cslsr.org/event/generating-love-2022-05-04-2/2026-04-15/
LOCATION:Zoom
CATEGORIES:Free Events,Meditation
ATTACH;FMTTYPE=image/jpeg:https://cslsr.org/wp-content/uploads/2020/09/love-scaled-e1600654727381.jpg
END:VEVENT
BEGIN:VEVENT
DTSTART;TZID=America/Los_Angeles:20260416T100000
DTEND;TZID=America/Los_Angeles:20260416T102500
DTSTAMP:20260420T003700
CREATED:20251105T232006Z
LAST-MODIFIED:20260309T213744Z
UID:10002293-1776333600-1776335100@cslsr.org
SUMMARY:Generating Love
DESCRIPTION:Weekdays (Monday – Friday)\nIn this live 25-minute meditation\, we recognize that Divine Love is within each of us. We come together in the experience of sharing and extending that love to expand a consciousness of a world that works for every one.\n\nThe Zoom link is https://tinyurl.com/GeneratingLove \n\nYou can also use a video of this meditation practice on your own at any time you choose. New video coming soon.\n\n\n\n.
URL:https://cslsr.org/event/generating-love-2022-05-04-2/2026-04-16/
LOCATION:Zoom
CATEGORIES:Free Events,Meditation
ATTACH;FMTTYPE=image/jpeg:https://cslsr.org/wp-content/uploads/2020/09/love-scaled-e1600654727381.jpg
END:VEVENT
BEGIN:VEVENT
DTSTART;TZID=America/Los_Angeles:20260417T100000
DTEND;TZID=America/Los_Angeles:20260417T102500
DTSTAMP:20260420T003700
CREATED:20251105T232006Z
LAST-MODIFIED:20260309T213744Z
UID:10002294-1776420000-1776421500@cslsr.org
SUMMARY:Generating Love
DESCRIPTION:Weekdays (Monday – Friday)\nIn this live 25-minute meditation\, we recognize that Divine Love is within each of us. We come together in the experience of sharing and extending that love to expand a consciousness of a world that works for every one.\n\nThe Zoom link is https://tinyurl.com/GeneratingLove \n\nYou can also use a video of this meditation practice on your own at any time you choose. New video coming soon.\n\n\n\n.
URL:https://cslsr.org/event/generating-love-2022-05-04-2/2026-04-17/
LOCATION:Zoom
CATEGORIES:Free Events,Meditation
ATTACH;FMTTYPE=image/jpeg:https://cslsr.org/wp-content/uploads/2020/09/love-scaled-e1600654727381.jpg
END:VEVENT
BEGIN:VEVENT
DTSTART;TZID=America/Los_Angeles:20260419T100000
DTEND;TZID=America/Los_Angeles:20260419T230000
DTSTAMP:20260420T003700
CREATED:20250212T202707Z
LAST-MODIFIED:20250212T202707Z
UID:10007217-1776592800-1776639600@cslsr.org
SUMMARY:Grief and Loss Support
DESCRIPTION:Come to the Practitioner Room upstairs\, next to the library\, for a facilitated session by a prayer practitioner. You can sit in silence or share your experiences in a safe and sacred space where we listen with hoor\, acceptance\, and love.
URL:https://cslsr.org/event/grief-and-loss-support-2026-02-15/
LOCATION:Center for Spiritual Living\, CA
CATEGORIES:Free Events
ATTACH;FMTTYPE=image/jpeg:https://cslsr.org/wp-content/uploads/2024/01/Untitled-design-2024-01-29T202015.287.jpg
GEO:38.43058;-122.745975
END:VEVENT
BEGIN:VEVENT
DTSTART;TZID=America/Los_Angeles:20260419T100000
DTEND;TZID=America/Los_Angeles:20260419T230000
DTSTAMP:20260420T003700
CREATED:20250212T202707Z
LAST-MODIFIED:20250212T202707Z
UID:10007055-1776592800-1776639600@cslsr.org
SUMMARY:Grief and Loss Support
DESCRIPTION:Come to the Practitioner Room upstairs\, next to the library\, for a facilitated session by a prayer practitioner. You can sit in silence or share your experiences in a safe and sacred space where we listen with hoor\, acceptance\, and love.
URL:https://cslsr.org/event/grief-and-loss-support-2025-11-16/
LOCATION:Center for Spiritual Living\, CA
CATEGORIES:Free Events
ATTACH;FMTTYPE=image/jpeg:https://cslsr.org/wp-content/uploads/2024/01/Untitled-design-2024-01-29T202015.287.jpg
GEO:38.43058;-122.745975
END:VEVENT
BEGIN:VEVENT
DTSTART;TZID=America/Los_Angeles:20260419T100000
DTEND;TZID=America/Los_Angeles:20260419T230000
DTSTAMP:20260420T003700
CREATED:20250212T202707Z
LAST-MODIFIED:20250212T202707Z
UID:10007110-1776592800-1776639600@cslsr.org
SUMMARY:Grief and Loss Support
DESCRIPTION:Come to the Practitioner Room upstairs\, next to the library\, for a facilitated session by a prayer practitioner. You can sit in silence or share your experiences in a safe and sacred space where we listen with hoor\, acceptance\, and love.
URL:https://cslsr.org/event/grief-and-loss-support-2025-12-21/
LOCATION:Center for Spiritual Living\, CA
CATEGORIES:Free Events
ATTACH;FMTTYPE=image/jpeg:https://cslsr.org/wp-content/uploads/2024/01/Untitled-design-2024-01-29T202015.287.jpg
GEO:38.43058;-122.745975
END:VEVENT
BEGIN:VEVENT
DTSTART;TZID=America/Los_Angeles:20260419T100000
DTEND;TZID=America/Los_Angeles:20260419T230000
DTSTAMP:20260420T003700
CREATED:20250212T202707Z
LAST-MODIFIED:20250212T202707Z
UID:10007164-1776592800-1776639600@cslsr.org
SUMMARY:Grief and Loss Support
DESCRIPTION:Come to the Practitioner Room upstairs\, next to the library\, for a facilitated session by a prayer practitioner. You can sit in silence or share your experiences in a safe and sacred space where we listen with hoor\, acceptance\, and love.
URL:https://cslsr.org/event/grief-and-loss-support-2026-01-18/
LOCATION:Center for Spiritual Living\, CA
CATEGORIES:Free Events
ATTACH;FMTTYPE=image/jpeg:https://cslsr.org/wp-content/uploads/2024/01/Untitled-design-2024-01-29T202015.287.jpg
GEO:38.43058;-122.745975
END:VEVENT
BEGIN:VEVENT
DTSTART;TZID=America/Los_Angeles:20260420T100000
DTEND;TZID=America/Los_Angeles:20260420T102500
DTSTAMP:20260420T003700
CREATED:20251105T232006Z
LAST-MODIFIED:20260309T213744Z
UID:10002295-1776679200-1776680700@cslsr.org
SUMMARY:Generating Love
DESCRIPTION:Weekdays (Monday – Friday)\nIn this live 25-minute meditation\, we recognize that Divine Love is within each of us. We come together in the experience of sharing and extending that love to expand a consciousness of a world that works for every one.\n\nThe Zoom link is https://tinyurl.com/GeneratingLove \n\nYou can also use a video of this meditation practice on your own at any time you choose. New video coming soon.\n\n\n\n.
URL:https://cslsr.org/event/generating-love-2022-05-04-2/2026-04-20/
LOCATION:Zoom
CATEGORIES:Free Events,Meditation
ATTACH;FMTTYPE=image/jpeg:https://cslsr.org/wp-content/uploads/2020/09/love-scaled-e1600654727381.jpg
END:VEVENT
BEGIN:VEVENT
DTSTART;TZID=America/Los_Angeles:20260421T100000
DTEND;TZID=America/Los_Angeles:20260421T102500
DTSTAMP:20260420T003700
CREATED:20251105T232006Z
LAST-MODIFIED:20260309T213744Z
UID:10002296-1776765600-1776767100@cslsr.org
SUMMARY:Generating Love
DESCRIPTION:Weekdays (Monday – Friday)\nIn this live 25-minute meditation\, we recognize that Divine Love is within each of us. We come together in the experience of sharing and extending that love to expand a consciousness of a world that works for every one.\n\nThe Zoom link is https://tinyurl.com/GeneratingLove \n\nYou can also use a video of this meditation practice on your own at any time you choose. New video coming soon.\n\n\n\n.
URL:https://cslsr.org/event/generating-love-2022-05-04-2/2026-04-21/
LOCATION:Zoom
CATEGORIES:Free Events,Meditation
ATTACH;FMTTYPE=image/jpeg:https://cslsr.org/wp-content/uploads/2020/09/love-scaled-e1600654727381.jpg
END:VEVENT
BEGIN:VEVENT
DTSTART;TZID=America/Los_Angeles:20260422T100000
DTEND;TZID=America/Los_Angeles:20260422T102500
DTSTAMP:20260420T003700
CREATED:20251105T232006Z
LAST-MODIFIED:20260309T213744Z
UID:10002297-1776852000-1776853500@cslsr.org
SUMMARY:Generating Love
DESCRIPTION:Weekdays (Monday – Friday)\nIn this live 25-minute meditation\, we recognize that Divine Love is within each of us. We come together in the experience of sharing and extending that love to expand a consciousness of a world that works for every one.\n\nThe Zoom link is https://tinyurl.com/GeneratingLove \n\nYou can also use a video of this meditation practice on your own at any time you choose. New video coming soon.\n\n\n\n.
URL:https://cslsr.org/event/generating-love-2022-05-04-2/2026-04-22/
LOCATION:Zoom
CATEGORIES:Free Events,Meditation
ATTACH;FMTTYPE=image/jpeg:https://cslsr.org/wp-content/uploads/2020/09/love-scaled-e1600654727381.jpg
END:VEVENT
BEGIN:VEVENT
DTSTART;TZID=America/Los_Angeles:20260423T100000
DTEND;TZID=America/Los_Angeles:20260423T102500
DTSTAMP:20260420T003700
CREATED:20251105T232006Z
LAST-MODIFIED:20260309T213744Z
UID:10002298-1776938400-1776939900@cslsr.org
SUMMARY:Generating Love
DESCRIPTION:Weekdays (Monday – Friday)\nIn this live 25-minute meditation\, we recognize that Divine Love is within each of us. We come together in the experience of sharing and extending that love to expand a consciousness of a world that works for every one.\n\nThe Zoom link is https://tinyurl.com/GeneratingLove \n\nYou can also use a video of this meditation practice on your own at any time you choose. New video coming soon.\n\n\n\n.
URL:https://cslsr.org/event/generating-love-2022-05-04-2/2026-04-23/
LOCATION:Zoom
CATEGORIES:Free Events,Meditation
ATTACH;FMTTYPE=image/jpeg:https://cslsr.org/wp-content/uploads/2020/09/love-scaled-e1600654727381.jpg
END:VEVENT
BEGIN:VEVENT
DTSTART;TZID=America/Los_Angeles:20260423T173000
DTEND;TZID=America/Los_Angeles:20260423T190000
DTSTAMP:20260420T003700
CREATED:20260122T230137Z
LAST-MODIFIED:20260226T231519Z
UID:10008807-1776965400-1776970800@cslsr.org
SUMMARY:Monthly Board of Trustees Public Zoom Meeting
DESCRIPTION:Join our Board of Trustees every month for our public business session. All are welcome. The Zoom link to join is below: \nhttps://us02web.zoom.us/j/84501860285?pwd=SuYSm1db0wbOARQmnkcm3VF1Iw6qx3.1
URL:https://cslsr.org/event/monthly-board-of-trustees-public-zoom-meeting-2/2026-04-23/
LOCATION:Center for Spiritual Living\, CA
CATEGORIES:Board of Trustees meetings,Free Events
ATTACH;FMTTYPE=image/jpeg:https://cslsr.org/wp-content/uploads/2019/08/AdobeStock_7154299-e1566770890847.jpeg
GEO:38.43058;-122.745975
END:VEVENT
BEGIN:VEVENT
DTSTART;TZID=America/Los_Angeles:20260424T100000
DTEND;TZID=America/Los_Angeles:20260424T102500
DTSTAMP:20260420T003700
CREATED:20251105T232006Z
LAST-MODIFIED:20260309T213744Z
UID:10002299-1777024800-1777026300@cslsr.org
SUMMARY:Generating Love
DESCRIPTION:Weekdays (Monday – Friday)\nIn this live 25-minute meditation\, we recognize that Divine Love is within each of us. We come together in the experience of sharing and extending that love to expand a consciousness of a world that works for every one.\n\nThe Zoom link is https://tinyurl.com/GeneratingLove \n\nYou can also use a video of this meditation practice on your own at any time you choose. New video coming soon.\n\n\n\n.
URL:https://cslsr.org/event/generating-love-2022-05-04-2/2026-04-24/
LOCATION:Zoom
CATEGORIES:Free Events,Meditation
ATTACH;FMTTYPE=image/jpeg:https://cslsr.org/wp-content/uploads/2020/09/love-scaled-e1600654727381.jpg
END:VEVENT
BEGIN:VEVENT
DTSTART;TZID=America/Los_Angeles:20260427T100000
DTEND;TZID=America/Los_Angeles:20260427T102500
DTSTAMP:20260420T003700
CREATED:20251105T232006Z
LAST-MODIFIED:20260309T213744Z
UID:10002300-1777284000-1777285500@cslsr.org
SUMMARY:Generating Love
DESCRIPTION:Weekdays (Monday – Friday)\nIn this live 25-minute meditation\, we recognize that Divine Love is within each of us. We come together in the experience of sharing and extending that love to expand a consciousness of a world that works for every one.\n\nThe Zoom link is https://tinyurl.com/GeneratingLove \n\nYou can also use a video of this meditation practice on your own at any time you choose. New video coming soon.\n\n\n\n.
URL:https://cslsr.org/event/generating-love-2022-05-04-2/2026-04-27/
LOCATION:Zoom
CATEGORIES:Free Events,Meditation
ATTACH;FMTTYPE=image/jpeg:https://cslsr.org/wp-content/uploads/2020/09/love-scaled-e1600654727381.jpg
END:VEVENT
BEGIN:VEVENT
DTSTART;TZID=America/Los_Angeles:20260428T100000
DTEND;TZID=America/Los_Angeles:20260428T102500
DTSTAMP:20260420T003700
CREATED:20251105T232006Z
LAST-MODIFIED:20260309T213744Z
UID:10002301-1777370400-1777371900@cslsr.org
SUMMARY:Generating Love
DESCRIPTION:Weekdays (Monday – Friday)\nIn this live 25-minute meditation\, we recognize that Divine Love is within each of us. We come together in the experience of sharing and extending that love to expand a consciousness of a world that works for every one.\n\nThe Zoom link is https://tinyurl.com/GeneratingLove \n\nYou can also use a video of this meditation practice on your own at any time you choose. New video coming soon.\n\n\n\n.
URL:https://cslsr.org/event/generating-love-2022-05-04-2/2026-04-28/
LOCATION:Zoom
CATEGORIES:Free Events,Meditation
ATTACH;FMTTYPE=image/jpeg:https://cslsr.org/wp-content/uploads/2020/09/love-scaled-e1600654727381.jpg
END:VEVENT
BEGIN:VEVENT
DTSTART;TZID=America/Los_Angeles:20260429T100000
DTEND;TZID=America/Los_Angeles:20260429T102500
DTSTAMP:20260420T003700
CREATED:20251105T232006Z
LAST-MODIFIED:20260309T213744Z
UID:10002302-1777456800-1777458300@cslsr.org
SUMMARY:Generating Love
DESCRIPTION:Weekdays (Monday – Friday)\nIn this live 25-minute meditation\, we recognize that Divine Love is within each of us. We come together in the experience of sharing and extending that love to expand a consciousness of a world that works for every one.\n\nThe Zoom link is https://tinyurl.com/GeneratingLove \n\nYou can also use a video of this meditation practice on your own at any time you choose. New video coming soon.\n\n\n\n.
URL:https://cslsr.org/event/generating-love-2022-05-04-2/2026-04-29/
LOCATION:Zoom
CATEGORIES:Free Events,Meditation
ATTACH;FMTTYPE=image/jpeg:https://cslsr.org/wp-content/uploads/2020/09/love-scaled-e1600654727381.jpg
END:VEVENT
BEGIN:VEVENT
DTSTART;TZID=America/Los_Angeles:20260430T100000
DTEND;TZID=America/Los_Angeles:20260430T102500
DTSTAMP:20260420T003700
CREATED:20251105T232006Z
LAST-MODIFIED:20260309T213744Z
UID:10002303-1777543200-1777544700@cslsr.org
SUMMARY:Generating Love
DESCRIPTION:Weekdays (Monday – Friday)\nIn this live 25-minute meditation\, we recognize that Divine Love is within each of us. We come together in the experience of sharing and extending that love to expand a consciousness of a world that works for every one.\n\nThe Zoom link is https://tinyurl.com/GeneratingLove \n\nYou can also use a video of this meditation practice on your own at any time you choose. New video coming soon.\n\n\n\n.
URL:https://cslsr.org/event/generating-love-2022-05-04-2/2026-04-30/
LOCATION:Zoom
CATEGORIES:Free Events,Meditation
ATTACH;FMTTYPE=image/jpeg:https://cslsr.org/wp-content/uploads/2020/09/love-scaled-e1600654727381.jpg
END:VEVENT
BEGIN:VEVENT
DTSTART;TZID=America/Los_Angeles:20260501T100000
DTEND;TZID=America/Los_Angeles:20260501T102500
DTSTAMP:20260420T003700
CREATED:20251105T232006Z
LAST-MODIFIED:20260309T213744Z
UID:10002304-1777629600-1777631100@cslsr.org
SUMMARY:Generating Love
DESCRIPTION:Weekdays (Monday – Friday)\nIn this live 25-minute meditation\, we recognize that Divine Love is within each of us. We come together in the experience of sharing and extending that love to expand a consciousness of a world that works for every one.\n\nThe Zoom link is https://tinyurl.com/GeneratingLove \n\nYou can also use a video of this meditation practice on your own at any time you choose. New video coming soon.\n\n\n\n.
URL:https://cslsr.org/event/generating-love-2022-05-04-2/2026-05-01/
LOCATION:Zoom
CATEGORIES:Free Events,Meditation
ATTACH;FMTTYPE=image/jpeg:https://cslsr.org/wp-content/uploads/2020/09/love-scaled-e1600654727381.jpg
END:VEVENT
BEGIN:VEVENT
DTSTART;TZID=America/Los_Angeles:20260504T100000
DTEND;TZID=America/Los_Angeles:20260504T102500
DTSTAMP:20260420T003700
CREATED:20251105T232006Z
LAST-MODIFIED:20260309T213744Z
UID:10005760-1777888800-1777890300@cslsr.org
SUMMARY:Generating Love
DESCRIPTION:Weekdays (Monday – Friday)\nIn this live 25-minute meditation\, we recognize that Divine Love is within each of us. We come together in the experience of sharing and extending that love to expand a consciousness of a world that works for every one.\n\nThe Zoom link is https://tinyurl.com/GeneratingLove \n\nYou can also use a video of this meditation practice on your own at any time you choose. New video coming soon.\n\n\n\n.
URL:https://cslsr.org/event/generating-love-2022-05-04-2/2026-05-04/
LOCATION:Zoom
CATEGORIES:Free Events,Meditation
ATTACH;FMTTYPE=image/jpeg:https://cslsr.org/wp-content/uploads/2020/09/love-scaled-e1600654727381.jpg
END:VEVENT
BEGIN:VEVENT
DTSTART;TZID=America/Los_Angeles:20260505T100000
DTEND;TZID=America/Los_Angeles:20260505T102500
DTSTAMP:20260420T003700
CREATED:20251105T232006Z
LAST-MODIFIED:20260309T213744Z
UID:10005761-1777975200-1777976700@cslsr.org
SUMMARY:Generating Love
DESCRIPTION:Weekdays (Monday – Friday)\nIn this live 25-minute meditation\, we recognize that Divine Love is within each of us. We come together in the experience of sharing and extending that love to expand a consciousness of a world that works for every one.\n\nThe Zoom link is https://tinyurl.com/GeneratingLove \n\nYou can also use a video of this meditation practice on your own at any time you choose. New video coming soon.\n\n\n\n.
URL:https://cslsr.org/event/generating-love-2022-05-04-2/2026-05-05/
LOCATION:Zoom
CATEGORIES:Free Events,Meditation
ATTACH;FMTTYPE=image/jpeg:https://cslsr.org/wp-content/uploads/2020/09/love-scaled-e1600654727381.jpg
END:VEVENT
END:VCALENDAR