BEGIN:VCALENDAR
VERSION:2.0
PRODID:-//Center for Spiritual Living Santa Rosa - ECPv6.15.17.1//NONSGML v1.0//EN
CALSCALE:GREGORIAN
METHOD:PUBLISH
X-ORIGINAL-URL:https://cslsr.org
X-WR-CALDESC:Events for Center for Spiritual Living Santa Rosa
REFRESH-INTERVAL;VALUE=DURATION:PT1H
X-Robots-Tag:noindex
X-PUBLISHED-TTL:PT1H
BEGIN:VTIMEZONE
TZID:America/Los_Angeles
BEGIN:DAYLIGHT
TZOFFSETFROM:-0800
TZOFFSETTO:-0700
TZNAME:PDT
DTSTART:20250309T100000
END:DAYLIGHT
BEGIN:STANDARD
TZOFFSETFROM:-0700
TZOFFSETTO:-0800
TZNAME:PST
DTSTART:20251102T090000
END:STANDARD
BEGIN:DAYLIGHT
TZOFFSETFROM:-0800
TZOFFSETTO:-0700
TZNAME:PDT
DTSTART:20260308T100000
END:DAYLIGHT
BEGIN:STANDARD
TZOFFSETFROM:-0700
TZOFFSETTO:-0800
TZNAME:PST
DTSTART:20261101T090000
END:STANDARD
BEGIN:DAYLIGHT
TZOFFSETFROM:-0800
TZOFFSETTO:-0700
TZNAME:PDT
DTSTART:20270314T100000
END:DAYLIGHT
BEGIN:STANDARD
TZOFFSETFROM:-0700
TZOFFSETTO:-0800
TZNAME:PST
DTSTART:20271107T090000
END:STANDARD
END:VTIMEZONE
BEGIN:VEVENT
DTSTART;TZID=America/Los_Angeles:20261002T100000
DTEND;TZID=America/Los_Angeles:20261002T102500
DTSTAMP:20260423T145640
CREATED:20251105T232006Z
LAST-MODIFIED:20260309T213744Z
UID:10005869-1790935200-1790936700@cslsr.org
SUMMARY:Generating Love
DESCRIPTION:Weekdays (Monday – Friday)\nIn this live 25-minute meditation\, we recognize that Divine Love is within each of us. We come together in the experience of sharing and extending that love to expand a consciousness of a world that works for every one.\n\nThe Zoom link is https://tinyurl.com/GeneratingLove \n\nYou can also use a video of this meditation practice on your own at any time you choose. New video coming soon.\n\n\n\n.
URL:https://cslsr.org/event/generating-love-2022-05-04-2/2026-10-02/
LOCATION:Zoom
CATEGORIES:Free Events,Meditation
ATTACH;FMTTYPE=image/jpeg:https://cslsr.org/wp-content/uploads/2020/09/love-scaled-e1600654727381.jpg
END:VEVENT
BEGIN:VEVENT
DTSTART;TZID=America/Los_Angeles:20261005T100000
DTEND;TZID=America/Los_Angeles:20261005T102500
DTSTAMP:20260423T145640
CREATED:20251105T232006Z
LAST-MODIFIED:20260309T213744Z
UID:10005870-1791194400-1791195900@cslsr.org
SUMMARY:Generating Love
DESCRIPTION:Weekdays (Monday – Friday)\nIn this live 25-minute meditation\, we recognize that Divine Love is within each of us. We come together in the experience of sharing and extending that love to expand a consciousness of a world that works for every one.\n\nThe Zoom link is https://tinyurl.com/GeneratingLove \n\nYou can also use a video of this meditation practice on your own at any time you choose. New video coming soon.\n\n\n\n.
URL:https://cslsr.org/event/generating-love-2022-05-04-2/2026-10-05/
LOCATION:Zoom
CATEGORIES:Free Events,Meditation
ATTACH;FMTTYPE=image/jpeg:https://cslsr.org/wp-content/uploads/2020/09/love-scaled-e1600654727381.jpg
END:VEVENT
BEGIN:VEVENT
DTSTART;TZID=America/Los_Angeles:20261006T100000
DTEND;TZID=America/Los_Angeles:20261006T102500
DTSTAMP:20260423T145640
CREATED:20251105T232006Z
LAST-MODIFIED:20260309T213744Z
UID:10005871-1791280800-1791282300@cslsr.org
SUMMARY:Generating Love
DESCRIPTION:Weekdays (Monday – Friday)\nIn this live 25-minute meditation\, we recognize that Divine Love is within each of us. We come together in the experience of sharing and extending that love to expand a consciousness of a world that works for every one.\n\nThe Zoom link is https://tinyurl.com/GeneratingLove \n\nYou can also use a video of this meditation practice on your own at any time you choose. New video coming soon.\n\n\n\n.
URL:https://cslsr.org/event/generating-love-2022-05-04-2/2026-10-06/
LOCATION:Zoom
CATEGORIES:Free Events,Meditation
ATTACH;FMTTYPE=image/jpeg:https://cslsr.org/wp-content/uploads/2020/09/love-scaled-e1600654727381.jpg
END:VEVENT
BEGIN:VEVENT
DTSTART;TZID=America/Los_Angeles:20261007T100000
DTEND;TZID=America/Los_Angeles:20261007T102500
DTSTAMP:20260423T145640
CREATED:20251105T232006Z
LAST-MODIFIED:20260309T213744Z
UID:10005872-1791367200-1791368700@cslsr.org
SUMMARY:Generating Love
DESCRIPTION:Weekdays (Monday – Friday)\nIn this live 25-minute meditation\, we recognize that Divine Love is within each of us. We come together in the experience of sharing and extending that love to expand a consciousness of a world that works for every one.\n\nThe Zoom link is https://tinyurl.com/GeneratingLove \n\nYou can also use a video of this meditation practice on your own at any time you choose. New video coming soon.\n\n\n\n.
URL:https://cslsr.org/event/generating-love-2022-05-04-2/2026-10-07/
LOCATION:Zoom
CATEGORIES:Free Events,Meditation
ATTACH;FMTTYPE=image/jpeg:https://cslsr.org/wp-content/uploads/2020/09/love-scaled-e1600654727381.jpg
END:VEVENT
BEGIN:VEVENT
DTSTART;TZID=America/Los_Angeles:20261008T100000
DTEND;TZID=America/Los_Angeles:20261008T102500
DTSTAMP:20260423T145640
CREATED:20251105T232006Z
LAST-MODIFIED:20260309T213744Z
UID:10005873-1791453600-1791455100@cslsr.org
SUMMARY:Generating Love
DESCRIPTION:Weekdays (Monday – Friday)\nIn this live 25-minute meditation\, we recognize that Divine Love is within each of us. We come together in the experience of sharing and extending that love to expand a consciousness of a world that works for every one.\n\nThe Zoom link is https://tinyurl.com/GeneratingLove \n\nYou can also use a video of this meditation practice on your own at any time you choose. New video coming soon.\n\n\n\n.
URL:https://cslsr.org/event/generating-love-2022-05-04-2/2026-10-08/
LOCATION:Zoom
CATEGORIES:Free Events,Meditation
ATTACH;FMTTYPE=image/jpeg:https://cslsr.org/wp-content/uploads/2020/09/love-scaled-e1600654727381.jpg
END:VEVENT
BEGIN:VEVENT
DTSTART;TZID=America/Los_Angeles:20261009T100000
DTEND;TZID=America/Los_Angeles:20261009T102500
DTSTAMP:20260423T145640
CREATED:20251105T232006Z
LAST-MODIFIED:20260309T213744Z
UID:10005874-1791540000-1791541500@cslsr.org
SUMMARY:Generating Love
DESCRIPTION:Weekdays (Monday – Friday)\nIn this live 25-minute meditation\, we recognize that Divine Love is within each of us. We come together in the experience of sharing and extending that love to expand a consciousness of a world that works for every one.\n\nThe Zoom link is https://tinyurl.com/GeneratingLove \n\nYou can also use a video of this meditation practice on your own at any time you choose. New video coming soon.\n\n\n\n.
URL:https://cslsr.org/event/generating-love-2022-05-04-2/2026-10-09/
LOCATION:Zoom
CATEGORIES:Free Events,Meditation
ATTACH;FMTTYPE=image/jpeg:https://cslsr.org/wp-content/uploads/2020/09/love-scaled-e1600654727381.jpg
END:VEVENT
BEGIN:VEVENT
DTSTART;TZID=America/Los_Angeles:20261012T100000
DTEND;TZID=America/Los_Angeles:20261012T102500
DTSTAMP:20260423T145640
CREATED:20251105T232006Z
LAST-MODIFIED:20260309T213744Z
UID:10005875-1791799200-1791800700@cslsr.org
SUMMARY:Generating Love
DESCRIPTION:Weekdays (Monday – Friday)\nIn this live 25-minute meditation\, we recognize that Divine Love is within each of us. We come together in the experience of sharing and extending that love to expand a consciousness of a world that works for every one.\n\nThe Zoom link is https://tinyurl.com/GeneratingLove \n\nYou can also use a video of this meditation practice on your own at any time you choose. New video coming soon.\n\n\n\n.
URL:https://cslsr.org/event/generating-love-2022-05-04-2/2026-10-12/
LOCATION:Zoom
CATEGORIES:Free Events,Meditation
ATTACH;FMTTYPE=image/jpeg:https://cslsr.org/wp-content/uploads/2020/09/love-scaled-e1600654727381.jpg
END:VEVENT
BEGIN:VEVENT
DTSTART;TZID=America/Los_Angeles:20261013T100000
DTEND;TZID=America/Los_Angeles:20261013T102500
DTSTAMP:20260423T145640
CREATED:20251105T232006Z
LAST-MODIFIED:20260309T213744Z
UID:10005876-1791885600-1791887100@cslsr.org
SUMMARY:Generating Love
DESCRIPTION:Weekdays (Monday – Friday)\nIn this live 25-minute meditation\, we recognize that Divine Love is within each of us. We come together in the experience of sharing and extending that love to expand a consciousness of a world that works for every one.\n\nThe Zoom link is https://tinyurl.com/GeneratingLove \n\nYou can also use a video of this meditation practice on your own at any time you choose. New video coming soon.\n\n\n\n.
URL:https://cslsr.org/event/generating-love-2022-05-04-2/2026-10-13/
LOCATION:Zoom
CATEGORIES:Free Events,Meditation
ATTACH;FMTTYPE=image/jpeg:https://cslsr.org/wp-content/uploads/2020/09/love-scaled-e1600654727381.jpg
END:VEVENT
BEGIN:VEVENT
DTSTART;TZID=America/Los_Angeles:20261014T100000
DTEND;TZID=America/Los_Angeles:20261014T102500
DTSTAMP:20260423T145640
CREATED:20251105T232006Z
LAST-MODIFIED:20260309T213744Z
UID:10005877-1791972000-1791973500@cslsr.org
SUMMARY:Generating Love
DESCRIPTION:Weekdays (Monday – Friday)\nIn this live 25-minute meditation\, we recognize that Divine Love is within each of us. We come together in the experience of sharing and extending that love to expand a consciousness of a world that works for every one.\n\nThe Zoom link is https://tinyurl.com/GeneratingLove \n\nYou can also use a video of this meditation practice on your own at any time you choose. New video coming soon.\n\n\n\n.
URL:https://cslsr.org/event/generating-love-2022-05-04-2/2026-10-14/
LOCATION:Zoom
CATEGORIES:Free Events,Meditation
ATTACH;FMTTYPE=image/jpeg:https://cslsr.org/wp-content/uploads/2020/09/love-scaled-e1600654727381.jpg
END:VEVENT
BEGIN:VEVENT
DTSTART;TZID=America/Los_Angeles:20261015T100000
DTEND;TZID=America/Los_Angeles:20261015T102500
DTSTAMP:20260423T145640
CREATED:20251105T232006Z
LAST-MODIFIED:20260309T213744Z
UID:10005878-1792058400-1792059900@cslsr.org
SUMMARY:Generating Love
DESCRIPTION:Weekdays (Monday – Friday)\nIn this live 25-minute meditation\, we recognize that Divine Love is within each of us. We come together in the experience of sharing and extending that love to expand a consciousness of a world that works for every one.\n\nThe Zoom link is https://tinyurl.com/GeneratingLove \n\nYou can also use a video of this meditation practice on your own at any time you choose. New video coming soon.\n\n\n\n.
URL:https://cslsr.org/event/generating-love-2022-05-04-2/2026-10-15/
LOCATION:Zoom
CATEGORIES:Free Events,Meditation
ATTACH;FMTTYPE=image/jpeg:https://cslsr.org/wp-content/uploads/2020/09/love-scaled-e1600654727381.jpg
END:VEVENT
BEGIN:VEVENT
DTSTART;TZID=America/Los_Angeles:20261016T100000
DTEND;TZID=America/Los_Angeles:20261016T102500
DTSTAMP:20260423T145640
CREATED:20251105T232006Z
LAST-MODIFIED:20260309T213744Z
UID:10005879-1792144800-1792146300@cslsr.org
SUMMARY:Generating Love
DESCRIPTION:Weekdays (Monday – Friday)\nIn this live 25-minute meditation\, we recognize that Divine Love is within each of us. We come together in the experience of sharing and extending that love to expand a consciousness of a world that works for every one.\n\nThe Zoom link is https://tinyurl.com/GeneratingLove \n\nYou can also use a video of this meditation practice on your own at any time you choose. New video coming soon.\n\n\n\n.
URL:https://cslsr.org/event/generating-love-2022-05-04-2/2026-10-16/
LOCATION:Zoom
CATEGORIES:Free Events,Meditation
ATTACH;FMTTYPE=image/jpeg:https://cslsr.org/wp-content/uploads/2020/09/love-scaled-e1600654727381.jpg
END:VEVENT
BEGIN:VEVENT
DTSTART;TZID=America/Los_Angeles:20261018T100000
DTEND;TZID=America/Los_Angeles:20261018T230000
DTSTAMP:20260423T145640
CREATED:20250212T202707Z
LAST-MODIFIED:20250212T202707Z
UID:10007223-1792317600-1792364400@cslsr.org
SUMMARY:Grief and Loss Support
DESCRIPTION:Come to the Practitioner Room upstairs\, next to the library\, for a facilitated session by a prayer practitioner. You can sit in silence or share your experiences in a safe and sacred space where we listen with hoor\, acceptance\, and love.
URL:https://cslsr.org/event/grief-and-loss-support-2026-02-15/
LOCATION:Center for Spiritual Living\, CA
CATEGORIES:Free Events
ATTACH;FMTTYPE=image/jpeg:https://cslsr.org/wp-content/uploads/2024/01/Untitled-design-2024-01-29T202015.287.jpg
GEO:38.43058;-122.745975
END:VEVENT
BEGIN:VEVENT
DTSTART;TZID=America/Los_Angeles:20261018T100000
DTEND;TZID=America/Los_Angeles:20261018T230000
DTSTAMP:20260423T145640
CREATED:20250212T202707Z
LAST-MODIFIED:20250212T202707Z
UID:10007061-1792317600-1792364400@cslsr.org
SUMMARY:Grief and Loss Support
DESCRIPTION:Come to the Practitioner Room upstairs\, next to the library\, for a facilitated session by a prayer practitioner. You can sit in silence or share your experiences in a safe and sacred space where we listen with hoor\, acceptance\, and love.
URL:https://cslsr.org/event/grief-and-loss-support-2025-11-16/
LOCATION:Center for Spiritual Living\, CA
CATEGORIES:Free Events
ATTACH;FMTTYPE=image/jpeg:https://cslsr.org/wp-content/uploads/2024/01/Untitled-design-2024-01-29T202015.287.jpg
GEO:38.43058;-122.745975
END:VEVENT
BEGIN:VEVENT
DTSTART;TZID=America/Los_Angeles:20261018T100000
DTEND;TZID=America/Los_Angeles:20261018T230000
DTSTAMP:20260423T145640
CREATED:20250212T202707Z
LAST-MODIFIED:20250212T202707Z
UID:10007116-1792317600-1792364400@cslsr.org
SUMMARY:Grief and Loss Support
DESCRIPTION:Come to the Practitioner Room upstairs\, next to the library\, for a facilitated session by a prayer practitioner. You can sit in silence or share your experiences in a safe and sacred space where we listen with hoor\, acceptance\, and love.
URL:https://cslsr.org/event/grief-and-loss-support-2025-12-21/
LOCATION:Center for Spiritual Living\, CA
CATEGORIES:Free Events
ATTACH;FMTTYPE=image/jpeg:https://cslsr.org/wp-content/uploads/2024/01/Untitled-design-2024-01-29T202015.287.jpg
GEO:38.43058;-122.745975
END:VEVENT
BEGIN:VEVENT
DTSTART;TZID=America/Los_Angeles:20261018T100000
DTEND;TZID=America/Los_Angeles:20261018T230000
DTSTAMP:20260423T145640
CREATED:20250212T202707Z
LAST-MODIFIED:20250212T202707Z
UID:10007170-1792317600-1792364400@cslsr.org
SUMMARY:Grief and Loss Support
DESCRIPTION:Come to the Practitioner Room upstairs\, next to the library\, for a facilitated session by a prayer practitioner. You can sit in silence or share your experiences in a safe and sacred space where we listen with hoor\, acceptance\, and love.
URL:https://cslsr.org/event/grief-and-loss-support-2026-01-18/
LOCATION:Center for Spiritual Living\, CA
CATEGORIES:Free Events
ATTACH;FMTTYPE=image/jpeg:https://cslsr.org/wp-content/uploads/2024/01/Untitled-design-2024-01-29T202015.287.jpg
GEO:38.43058;-122.745975
END:VEVENT
BEGIN:VEVENT
DTSTART;TZID=America/Los_Angeles:20261019T100000
DTEND;TZID=America/Los_Angeles:20261019T102500
DTSTAMP:20260423T145641
CREATED:20251105T232006Z
LAST-MODIFIED:20260309T213744Z
UID:10005880-1792404000-1792405500@cslsr.org
SUMMARY:Generating Love
DESCRIPTION:Weekdays (Monday – Friday)\nIn this live 25-minute meditation\, we recognize that Divine Love is within each of us. We come together in the experience of sharing and extending that love to expand a consciousness of a world that works for every one.\n\nThe Zoom link is https://tinyurl.com/GeneratingLove \n\nYou can also use a video of this meditation practice on your own at any time you choose. New video coming soon.\n\n\n\n.
URL:https://cslsr.org/event/generating-love-2022-05-04-2/2026-10-19/
LOCATION:Zoom
CATEGORIES:Free Events,Meditation
ATTACH;FMTTYPE=image/jpeg:https://cslsr.org/wp-content/uploads/2020/09/love-scaled-e1600654727381.jpg
END:VEVENT
BEGIN:VEVENT
DTSTART;TZID=America/Los_Angeles:20261020T100000
DTEND;TZID=America/Los_Angeles:20261020T102500
DTSTAMP:20260423T145641
CREATED:20251105T232006Z
LAST-MODIFIED:20260309T213744Z
UID:10005881-1792490400-1792491900@cslsr.org
SUMMARY:Generating Love
DESCRIPTION:Weekdays (Monday – Friday)\nIn this live 25-minute meditation\, we recognize that Divine Love is within each of us. We come together in the experience of sharing and extending that love to expand a consciousness of a world that works for every one.\n\nThe Zoom link is https://tinyurl.com/GeneratingLove \n\nYou can also use a video of this meditation practice on your own at any time you choose. New video coming soon.\n\n\n\n.
URL:https://cslsr.org/event/generating-love-2022-05-04-2/2026-10-20/
LOCATION:Zoom
CATEGORIES:Free Events,Meditation
ATTACH;FMTTYPE=image/jpeg:https://cslsr.org/wp-content/uploads/2020/09/love-scaled-e1600654727381.jpg
END:VEVENT
BEGIN:VEVENT
DTSTART;TZID=America/Los_Angeles:20261021T100000
DTEND;TZID=America/Los_Angeles:20261021T102500
DTSTAMP:20260423T145641
CREATED:20251105T232006Z
LAST-MODIFIED:20260309T213744Z
UID:10005882-1792576800-1792578300@cslsr.org
SUMMARY:Generating Love
DESCRIPTION:Weekdays (Monday – Friday)\nIn this live 25-minute meditation\, we recognize that Divine Love is within each of us. We come together in the experience of sharing and extending that love to expand a consciousness of a world that works for every one.\n\nThe Zoom link is https://tinyurl.com/GeneratingLove \n\nYou can also use a video of this meditation practice on your own at any time you choose. New video coming soon.\n\n\n\n.
URL:https://cslsr.org/event/generating-love-2022-05-04-2/2026-10-21/
LOCATION:Zoom
CATEGORIES:Free Events,Meditation
ATTACH;FMTTYPE=image/jpeg:https://cslsr.org/wp-content/uploads/2020/09/love-scaled-e1600654727381.jpg
END:VEVENT
BEGIN:VEVENT
DTSTART;TZID=America/Los_Angeles:20261022T100000
DTEND;TZID=America/Los_Angeles:20261022T102500
DTSTAMP:20260423T145641
CREATED:20251105T232006Z
LAST-MODIFIED:20260309T213744Z
UID:10005883-1792663200-1792664700@cslsr.org
SUMMARY:Generating Love
DESCRIPTION:Weekdays (Monday – Friday)\nIn this live 25-minute meditation\, we recognize that Divine Love is within each of us. We come together in the experience of sharing and extending that love to expand a consciousness of a world that works for every one.\n\nThe Zoom link is https://tinyurl.com/GeneratingLove \n\nYou can also use a video of this meditation practice on your own at any time you choose. New video coming soon.\n\n\n\n.
URL:https://cslsr.org/event/generating-love-2022-05-04-2/2026-10-22/
LOCATION:Zoom
CATEGORIES:Free Events,Meditation
ATTACH;FMTTYPE=image/jpeg:https://cslsr.org/wp-content/uploads/2020/09/love-scaled-e1600654727381.jpg
END:VEVENT
BEGIN:VEVENT
DTSTART;TZID=America/Los_Angeles:20261022T173000
DTEND;TZID=America/Los_Angeles:20261022T190000
DTSTAMP:20260423T145641
CREATED:20260122T230137Z
LAST-MODIFIED:20260226T231519Z
UID:10008813-1792690200-1792695600@cslsr.org
SUMMARY:Monthly Board of Trustees Public Zoom Meeting
DESCRIPTION:Join our Board of Trustees every month for our public business session. All are welcome. The Zoom link to join is below: \nhttps://us02web.zoom.us/j/84501860285?pwd=SuYSm1db0wbOARQmnkcm3VF1Iw6qx3.1
URL:https://cslsr.org/event/monthly-board-of-trustees-public-zoom-meeting-2/2026-10-22/
LOCATION:Center for Spiritual Living\, CA
CATEGORIES:Board of Trustees meetings,Free Events
ATTACH;FMTTYPE=image/jpeg:https://cslsr.org/wp-content/uploads/2019/08/AdobeStock_7154299-e1566770890847.jpeg
GEO:38.43058;-122.745975
END:VEVENT
BEGIN:VEVENT
DTSTART;TZID=America/Los_Angeles:20261023T100000
DTEND;TZID=America/Los_Angeles:20261023T102500
DTSTAMP:20260423T145641
CREATED:20251105T232006Z
LAST-MODIFIED:20260309T213744Z
UID:10005884-1792749600-1792751100@cslsr.org
SUMMARY:Generating Love
DESCRIPTION:Weekdays (Monday – Friday)\nIn this live 25-minute meditation\, we recognize that Divine Love is within each of us. We come together in the experience of sharing and extending that love to expand a consciousness of a world that works for every one.\n\nThe Zoom link is https://tinyurl.com/GeneratingLove \n\nYou can also use a video of this meditation practice on your own at any time you choose. New video coming soon.\n\n\n\n.
URL:https://cslsr.org/event/generating-love-2022-05-04-2/2026-10-23/
LOCATION:Zoom
CATEGORIES:Free Events,Meditation
ATTACH;FMTTYPE=image/jpeg:https://cslsr.org/wp-content/uploads/2020/09/love-scaled-e1600654727381.jpg
END:VEVENT
BEGIN:VEVENT
DTSTART;TZID=America/Los_Angeles:20261026T100000
DTEND;TZID=America/Los_Angeles:20261026T102500
DTSTAMP:20260423T145641
CREATED:20251105T232006Z
LAST-MODIFIED:20260309T213744Z
UID:10005885-1793008800-1793010300@cslsr.org
SUMMARY:Generating Love
DESCRIPTION:Weekdays (Monday – Friday)\nIn this live 25-minute meditation\, we recognize that Divine Love is within each of us. We come together in the experience of sharing and extending that love to expand a consciousness of a world that works for every one.\n\nThe Zoom link is https://tinyurl.com/GeneratingLove \n\nYou can also use a video of this meditation practice on your own at any time you choose. New video coming soon.\n\n\n\n.
URL:https://cslsr.org/event/generating-love-2022-05-04-2/2026-10-26/
LOCATION:Zoom
CATEGORIES:Free Events,Meditation
ATTACH;FMTTYPE=image/jpeg:https://cslsr.org/wp-content/uploads/2020/09/love-scaled-e1600654727381.jpg
END:VEVENT
BEGIN:VEVENT
DTSTART;TZID=America/Los_Angeles:20261027T100000
DTEND;TZID=America/Los_Angeles:20261027T102500
DTSTAMP:20260423T145641
CREATED:20251105T232006Z
LAST-MODIFIED:20260309T213744Z
UID:10005886-1793095200-1793096700@cslsr.org
SUMMARY:Generating Love
DESCRIPTION:Weekdays (Monday – Friday)\nIn this live 25-minute meditation\, we recognize that Divine Love is within each of us. We come together in the experience of sharing and extending that love to expand a consciousness of a world that works for every one.\n\nThe Zoom link is https://tinyurl.com/GeneratingLove \n\nYou can also use a video of this meditation practice on your own at any time you choose. New video coming soon.\n\n\n\n.
URL:https://cslsr.org/event/generating-love-2022-05-04-2/2026-10-27/
LOCATION:Zoom
CATEGORIES:Free Events,Meditation
ATTACH;FMTTYPE=image/jpeg:https://cslsr.org/wp-content/uploads/2020/09/love-scaled-e1600654727381.jpg
END:VEVENT
BEGIN:VEVENT
DTSTART;TZID=America/Los_Angeles:20261028T100000
DTEND;TZID=America/Los_Angeles:20261028T102500
DTSTAMP:20260423T145641
CREATED:20251105T232006Z
LAST-MODIFIED:20260309T213744Z
UID:10005887-1793181600-1793183100@cslsr.org
SUMMARY:Generating Love
DESCRIPTION:Weekdays (Monday – Friday)\nIn this live 25-minute meditation\, we recognize that Divine Love is within each of us. We come together in the experience of sharing and extending that love to expand a consciousness of a world that works for every one.\n\nThe Zoom link is https://tinyurl.com/GeneratingLove \n\nYou can also use a video of this meditation practice on your own at any time you choose. New video coming soon.\n\n\n\n.
URL:https://cslsr.org/event/generating-love-2022-05-04-2/2026-10-28/
LOCATION:Zoom
CATEGORIES:Free Events,Meditation
ATTACH;FMTTYPE=image/jpeg:https://cslsr.org/wp-content/uploads/2020/09/love-scaled-e1600654727381.jpg
END:VEVENT
BEGIN:VEVENT
DTSTART;TZID=America/Los_Angeles:20261029T100000
DTEND;TZID=America/Los_Angeles:20261029T102500
DTSTAMP:20260423T145641
CREATED:20251105T232006Z
LAST-MODIFIED:20260309T213744Z
UID:10005888-1793268000-1793269500@cslsr.org
SUMMARY:Generating Love
DESCRIPTION:Weekdays (Monday – Friday)\nIn this live 25-minute meditation\, we recognize that Divine Love is within each of us. We come together in the experience of sharing and extending that love to expand a consciousness of a world that works for every one.\n\nThe Zoom link is https://tinyurl.com/GeneratingLove \n\nYou can also use a video of this meditation practice on your own at any time you choose. New video coming soon.\n\n\n\n.
URL:https://cslsr.org/event/generating-love-2022-05-04-2/2026-10-29/
LOCATION:Zoom
CATEGORIES:Free Events,Meditation
ATTACH;FMTTYPE=image/jpeg:https://cslsr.org/wp-content/uploads/2020/09/love-scaled-e1600654727381.jpg
END:VEVENT
BEGIN:VEVENT
DTSTART;TZID=America/Los_Angeles:20261030T100000
DTEND;TZID=America/Los_Angeles:20261030T102500
DTSTAMP:20260423T145641
CREATED:20251105T232006Z
LAST-MODIFIED:20260309T213744Z
UID:10005889-1793354400-1793355900@cslsr.org
SUMMARY:Generating Love
DESCRIPTION:Weekdays (Monday – Friday)\nIn this live 25-minute meditation\, we recognize that Divine Love is within each of us. We come together in the experience of sharing and extending that love to expand a consciousness of a world that works for every one.\n\nThe Zoom link is https://tinyurl.com/GeneratingLove \n\nYou can also use a video of this meditation practice on your own at any time you choose. New video coming soon.\n\n\n\n.
URL:https://cslsr.org/event/generating-love-2022-05-04-2/2026-10-30/
LOCATION:Zoom
CATEGORIES:Free Events,Meditation
ATTACH;FMTTYPE=image/jpeg:https://cslsr.org/wp-content/uploads/2020/09/love-scaled-e1600654727381.jpg
END:VEVENT
BEGIN:VEVENT
DTSTART;TZID=America/Los_Angeles:20261102T100000
DTEND;TZID=America/Los_Angeles:20261102T102500
DTSTAMP:20260423T145641
CREATED:20251105T232006Z
LAST-MODIFIED:20260309T213744Z
UID:10005890-1793613600-1793615100@cslsr.org
SUMMARY:Generating Love
DESCRIPTION:Weekdays (Monday – Friday)\nIn this live 25-minute meditation\, we recognize that Divine Love is within each of us. We come together in the experience of sharing and extending that love to expand a consciousness of a world that works for every one.\n\nThe Zoom link is https://tinyurl.com/GeneratingLove \n\nYou can also use a video of this meditation practice on your own at any time you choose. New video coming soon.\n\n\n\n.
URL:https://cslsr.org/event/generating-love-2022-05-04-2/2026-11-02/
LOCATION:Zoom
CATEGORIES:Free Events,Meditation
ATTACH;FMTTYPE=image/jpeg:https://cslsr.org/wp-content/uploads/2020/09/love-scaled-e1600654727381.jpg
END:VEVENT
BEGIN:VEVENT
DTSTART;TZID=America/Los_Angeles:20261103T100000
DTEND;TZID=America/Los_Angeles:20261103T102500
DTSTAMP:20260423T145641
CREATED:20251105T232006Z
LAST-MODIFIED:20260309T213744Z
UID:10005891-1793700000-1793701500@cslsr.org
SUMMARY:Generating Love
DESCRIPTION:Weekdays (Monday – Friday)\nIn this live 25-minute meditation\, we recognize that Divine Love is within each of us. We come together in the experience of sharing and extending that love to expand a consciousness of a world that works for every one.\n\nThe Zoom link is https://tinyurl.com/GeneratingLove \n\nYou can also use a video of this meditation practice on your own at any time you choose. New video coming soon.\n\n\n\n.
URL:https://cslsr.org/event/generating-love-2022-05-04-2/2026-11-03/
LOCATION:Zoom
CATEGORIES:Free Events,Meditation
ATTACH;FMTTYPE=image/jpeg:https://cslsr.org/wp-content/uploads/2020/09/love-scaled-e1600654727381.jpg
END:VEVENT
BEGIN:VEVENT
DTSTART;TZID=America/Los_Angeles:20261104T100000
DTEND;TZID=America/Los_Angeles:20261104T102500
DTSTAMP:20260423T145641
CREATED:20251105T232006Z
LAST-MODIFIED:20260309T213744Z
UID:10005892-1793786400-1793787900@cslsr.org
SUMMARY:Generating Love
DESCRIPTION:Weekdays (Monday – Friday)\nIn this live 25-minute meditation\, we recognize that Divine Love is within each of us. We come together in the experience of sharing and extending that love to expand a consciousness of a world that works for every one.\n\nThe Zoom link is https://tinyurl.com/GeneratingLove \n\nYou can also use a video of this meditation practice on your own at any time you choose. New video coming soon.\n\n\n\n.
URL:https://cslsr.org/event/generating-love-2022-05-04-2/2026-11-04/
LOCATION:Zoom
CATEGORIES:Free Events,Meditation
ATTACH;FMTTYPE=image/jpeg:https://cslsr.org/wp-content/uploads/2020/09/love-scaled-e1600654727381.jpg
END:VEVENT
BEGIN:VEVENT
DTSTART;TZID=America/Los_Angeles:20261105T100000
DTEND;TZID=America/Los_Angeles:20261105T102500
DTSTAMP:20260423T145641
CREATED:20251105T232006Z
LAST-MODIFIED:20260309T213744Z
UID:10005893-1793872800-1793874300@cslsr.org
SUMMARY:Generating Love
DESCRIPTION:Weekdays (Monday – Friday)\nIn this live 25-minute meditation\, we recognize that Divine Love is within each of us. We come together in the experience of sharing and extending that love to expand a consciousness of a world that works for every one.\n\nThe Zoom link is https://tinyurl.com/GeneratingLove \n\nYou can also use a video of this meditation practice on your own at any time you choose. New video coming soon.\n\n\n\n.
URL:https://cslsr.org/event/generating-love-2022-05-04-2/2026-11-05/
LOCATION:Zoom
CATEGORIES:Free Events,Meditation
ATTACH;FMTTYPE=image/jpeg:https://cslsr.org/wp-content/uploads/2020/09/love-scaled-e1600654727381.jpg
END:VEVENT
END:VCALENDAR